BEGIN:VCALENDAR
VERSION:2.0
PRODID:-//Playhouse Village Association - ECPv6.15.20//NONSGML v1.0//EN
CALSCALE:GREGORIAN
METHOD:PUBLISH
X-WR-CALNAME:Playhouse Village Association
X-ORIGINAL-URL:https://playhousevillage.org
X-WR-CALDESC:Events for Playhouse Village Association
REFRESH-INTERVAL;VALUE=DURATION:PT1H
X-Robots-Tag:noindex
X-PUBLISHED-TTL:PT1H
BEGIN:VTIMEZONE
TZID:America/Los_Angeles
BEGIN:DAYLIGHT
TZOFFSETFROM:-0800
TZOFFSETTO:-0700
TZNAME:PDT
DTSTART:20220313T100000
END:DAYLIGHT
BEGIN:STANDARD
TZOFFSETFROM:-0700
TZOFFSETTO:-0800
TZNAME:PST
DTSTART:20221106T090000
END:STANDARD
BEGIN:DAYLIGHT
TZOFFSETFROM:-0800
TZOFFSETTO:-0700
TZNAME:PDT
DTSTART:20230312T100000
END:DAYLIGHT
BEGIN:STANDARD
TZOFFSETFROM:-0700
TZOFFSETTO:-0800
TZNAME:PST
DTSTART:20231105T090000
END:STANDARD
BEGIN:DAYLIGHT
TZOFFSETFROM:-0800
TZOFFSETTO:-0700
TZNAME:PDT
DTSTART:20240310T100000
END:DAYLIGHT
BEGIN:STANDARD
TZOFFSETFROM:-0700
TZOFFSETTO:-0800
TZNAME:PST
DTSTART:20241103T090000
END:STANDARD
BEGIN:DAYLIGHT
TZOFFSETFROM:-0800
TZOFFSETTO:-0700
TZNAME:PDT
DTSTART:20250309T100000
END:DAYLIGHT
BEGIN:STANDARD
TZOFFSETFROM:-0700
TZOFFSETTO:-0800
TZNAME:PST
DTSTART:20251102T090000
END:STANDARD
BEGIN:DAYLIGHT
TZOFFSETFROM:-0800
TZOFFSETTO:-0700
TZNAME:PDT
DTSTART:20260308T100000
END:DAYLIGHT
BEGIN:STANDARD
TZOFFSETFROM:-0700
TZOFFSETTO:-0800
TZNAME:PST
DTSTART:20261101T090000
END:STANDARD
BEGIN:DAYLIGHT
TZOFFSETFROM:-0800
TZOFFSETTO:-0700
TZNAME:PDT
DTSTART:20270314T100000
END:DAYLIGHT
BEGIN:STANDARD
TZOFFSETFROM:-0700
TZOFFSETTO:-0800
TZNAME:PST
DTSTART:20271107T090000
END:STANDARD
END:VTIMEZONE
BEGIN:VEVENT
DTSTART;TZID=America/Los_Angeles:20260401T110000
DTEND;TZID=America/Los_Angeles:20260401T120000
DTSTAMP:20260424T163506
CREATED:20260317T215105Z
LAST-MODIFIED:20260317T215105Z
UID:10015075-1775041200-1775044800@playhousevillage.org
SUMMARY:Vroman's Bookstore: Easter Storytime with Mr. Steve and Ms. Marie
DESCRIPTION:Vroman’s Bookstore invites little readers to a very special Easter Storytime with Mr. Steve and Ms. Marie on Wednesday\, April 1 at 11am. Filled with books and songs celebrating bunnies\, Easter eggs\, and baby chicks\, it’s sure to be an egg-citing morning that every-bunny will not want to miss.
URL:https://playhousevillage.org/event/vromans-bookstore-easter-storytime-with-mr-steve-and-ms-marie/
LOCATION:Vroman’s Bookstore
CATEGORIES:Books,Community Event,Free,In-Person,Kids,Vroman's Bookstore
ATTACH;FMTTYPE=image/png:https://playhousevillage.org/wp-content/uploads/2026/03/storytime-website-image-19.png
END:VEVENT
BEGIN:VEVENT
DTSTART;TZID=America/Los_Angeles:20260212T190000
DTEND;TZID=America/Los_Angeles:20260212T190000
DTSTAMP:20260424T163506
CREATED:20260123T221747Z
LAST-MODIFIED:20260123T221747Z
UID:10014939-1770922800-1770922800@playhousevillage.org
SUMMARY:Vroman's Bookstore: Jacob Soboroff discusses & signs Firestorm: The Great Los Angeles Fires and America's New Age of Disaster
DESCRIPTION:A “gripping\, unshakeable firsthand account” (San Francisco Chronicle) of the firestorm that consumed Los Angeles\, from the MS NOW reporter and New York Times bestselling author of Separated\, who covered the fires on the ground as an LA native. \n“Read[s] like a sci-fi thriller.” –Los Angeles Times \nOn the morning of January 7\, 2025\, a message pinged the phone of Jacob Soboroff\, a national reporter for MS NOW. “Big Palisades fire. We are evacuating\,” his brother texted within minutes of the blaze engulfing the hillside behind the home where he and his pregnant wife were living. “Really bad.” An attached photo showed a huge black plume rising from behind the house\, an umbrella of smoke towering over everything they owned. Jacob rushed to the office of the bureau chief.\n“I should go. I grew up in the Palisades.”\nSoon he was on the front line of the blaze–his first live report of what would turn out to be weeks covering unimaginable destruction\, from both the Palisades Fire and the Eaton Fire\, in Altadena. In the days to come\, Soboroff appeared across the networks of NBC News as Los Angeles was ablaze\, met with displaced residents and workers\, and pressed Governor Gavin Newsom in an interview on Meet the Press. But no story Soboroff has covered at home or abroad–the trauma of family separation at the border\, the displacement of the war in Ukraine\, the collapse of order in Haiti–could have prepared him for reporting live as the hallmarks of his childhood were engulfed in flames around him while his hometown burned to the ground. \nBut for Soboroff\, questions remained after the fires were controlled: what had he just witnessed? How could it have happened? Is it inevitable that something will happen again? This set Soboroff off on months of reporting–with firefighters\, fire victims\, political leaders\, academics\, earth scientists\, wildlife biologists\, meteorologists\, and more–that made him keenly aware of how the misfortune of seeing his past carbonize was also a form of time travel into the dystopian world his children will inhabit. This is because the 2025 LA fires were not an isolated tragedy\, but rather they are a harbinger–“the fire of the future\,” in the words of one senior emergency management official.\nFirestorm is the story of the costliest wildfire in American history\, the people it affected\, and the deeply personal connection to one journalist covering it. It is a love letter to Los Angeles\, a yearning to understand the fires\, and why America’s new age of disaster we are living through portends that–without a reckoning of how Los Angeles burned–there is more yet\, and worse\, to come.
URL:https://playhousevillage.org/event/vromans-bookstore-jacob-soboroff-discusses-signs-firestorm-the-great-los-angeles-fires-and-americas-new-age-of-disaster/
LOCATION:Vroman’s Bookstore
CATEGORIES:Books,Community Event,In-Person,Vroman's Bookstore
ATTACH;FMTTYPE=image/png:https://playhousevillage.org/wp-content/uploads/2026/01/jacob-soboroff.png
END:VEVENT
BEGIN:VEVENT
DTSTART;TZID=America/Los_Angeles:20260127T190000
DTEND;TZID=America/Los_Angeles:20260127T190000
DTSTAMP:20260424T163506
CREATED:20260116T212817Z
LAST-MODIFIED:20260116T212817Z
UID:10014868-1769540400-1769540400@playhousevillage.org
SUMMARY:Vroman's Bookstore: Shari Dunbar Boyer discusses & signs The Book of Modern Ceremony: Practices to Mark Life’s Big and Small Moments
DESCRIPTION:For those seeking connection and meaning in their everyday lives\, an easy-to-follow\, beautiful\, and inspiring manual on performing ceremonies for all occasions and milestones\, from life transitions and family gatherings to holidays and seasonal changes. \nFor as long as humans have existed\, we have performed ceremonies to mark occasions and personal transitions to create meaning and connect with the world\, ourselves\, and each other. Though ceremony is still a cornerstone of many cultures around the globe\, modern rituals are largely confined to just three events: birth\, marriage\, and death. Without our ancestors’ sense of frequent and intentional ceremony\, we have lost the power to bring meaning to our everyday lives. The Book of Modern Ceremony is here to change that. \nWritten by sociologist and ceremonialist Shari Dunbar Boyer\, this book shares more than 30 ceremonies that can be easily incorporated into contemporary life. There are rituals for life transitions\, calendar changes\, and personal growth. Some celebrate familiar events\, like the Untraditional Birthday or Vow Renewal ceremonies\, but others mark important milestones that we often neglect\, such as moving to a new home or entering menopause. And of course\, there are seasonal rituals for every solstice\, equinox\, and moon cycle. \nPresented in easy-to-follow step-by-step instructions\, The Book of Modern Ceremony encourages readers to leave behind the daily stressors of life and connect more deeply with themselves\, their loved ones\, and their own spirituality.
URL:https://playhousevillage.org/event/vromans-bookstore-shari-dunbar-boyer-discusses-signs-the-book-of-modern-ceremony-practices-to-mark-lifes-big-and-small-moments/
LOCATION:Vroman’s Bookstore
CATEGORIES:Books,Community Event,Free,In-Person,Vroman's Bookstore
ATTACH;FMTTYPE=image/png:https://playhousevillage.org/wp-content/uploads/2026/01/shari-dunbar-boyer.png
END:VEVENT
BEGIN:VEVENT
DTSTART;TZID=America/Los_Angeles:20260122T190000
DTEND;TZID=America/Los_Angeles:20260122T190000
DTSTAMP:20260424T163506
CREATED:20260116T205524Z
LAST-MODIFIED:20260116T205524Z
UID:10014861-1769108400-1769108400@playhousevillage.org
SUMMARY:Vroman's Bookstore: Taleen Voskuni discusses & signs Our Ex’s Wedding
DESCRIPTION:Two people who can’t stand each other must come together to plan their mutual ex’s wedding in this new romantic comedy by Taleen Voskuni\, author of Lavash at First Sight. \nAni Avakian was supposed to be the Bay Area’s premier Armenian wedding planner by now. But after a huge blow to her business\, she’s determined to redeem herself by taking on the biggest job of her career: a wedding for an indie movie star. The wedding is set at a stunning Armenian-owned winery\, and Ani is eager to connect with the owner\, who she’ll be working closely with. But then she actually meets him. Sure\, Raffi is ridiculously hot and charming\, but he’s also insufferably smug. Though the real gut punch comes when Ani meets the happy couple–because the actress’s fiancée is none other than the woman who shattered her heart two years ago: her ex-girlfriend\, Kami.
URL:https://playhousevillage.org/event/vromans-bookstore-taleen-voskuni-discusses-signs-our-exs-wedding/
LOCATION:Vroman’s Bookstore
CATEGORIES:Community Event,Free,In-Person,Vroman's Bookstore
ATTACH;FMTTYPE=image/png:https://playhousevillage.org/wp-content/uploads/2026/01/taleen-voskuni.png
END:VEVENT
BEGIN:VEVENT
DTSTART;TZID=America/Los_Angeles:20250930T190000
DTEND;TZID=America/Los_Angeles:20250930T200000
DTSTAMP:20260424T163506
CREATED:20250814T231247Z
LAST-MODIFIED:20250814T231247Z
UID:10014349-1759258800-1759262400@playhousevillage.org
SUMMARY:Vroman's Bookstore: Scott Campbell reads from & signs Cabin Head and Tree Head (Cabin Head and Tree Head\, Book #1)
DESCRIPTION:“Hahahahahahahaha” –Jon Klassen\, Caldecott medalist and New York Times bestselling author-illustrator of THE SKULL \n“I laughed my head off!” –Ben Clanton\, Eisner Award winner and New York Times bestselling author-illustrator of NARWHAL AND JELLY \nHELLO\, READER HEADS! Jump headfirst into the wonderfully off-the-wall world of renowned creator Scott Campbell\, in this goofy\, good-natured graphic novel series featuring a best friend duo like no other! It’s Frog and Toad meets Bill and Ted for a new generation of readers — and best buddies of all ages. \nBook 1 includes 6 laugh-out-loud adventures in a universe where everyone has something on their head! Includes bonus content: Storytime with Library Head\, Pool Party with Pool Head and Drawing Time with Box of Crayons Head. \nWhether drawing or hiding or just saying HELLO or BYE-BYE\, Cabin Head and Tree Head are irresistible buddies who have fun together\, support one another’s ideas (digging for treasure without a map) and help one another overcome challenges (bad leafcuts!). These are lighthearted tales of two pals who think differently — and entirely embrace it — set in a landscape of equally unforgettable characters such as Automobile Head\, Volcano Head and Trash Can Head. Let’s go hang out with all the Heads!
URL:https://playhousevillage.org/event/vromans-bookstore-scott-campbell-reads-from-signs-cabin-head-and-tree-head-cabin-head-and-tree-head-book-1/
LOCATION:Vroman’s Bookstore
CATEGORIES:Vroman's Bookstore
ATTACH;FMTTYPE=image/png:https://playhousevillage.org/wp-content/uploads/2025/08/scott-campbell-600x600-1.png
END:VEVENT
BEGIN:VEVENT
DTSTART;TZID=America/Los_Angeles:20250927T110000
DTEND;TZID=America/Los_Angeles:20250927T120000
DTSTAMP:20260424T163506
CREATED:20250814T230706Z
LAST-MODIFIED:20250814T230706Z
UID:10014346-1758970800-1758974400@playhousevillage.org
SUMMARY:Vroman's Bookstore: Dr. Haleh Massey discusses & signs Say Something\, Poupeh Babaee!: A Graphic Novel
DESCRIPTION:Poupeh needs to speak up for her parents at an embassy interview-the problem is that she’s been rendered mute! Smile meets New Kid in this funny\, heartwarming\, poignant graphic novel about the toll immigrating to the United States takes on a kid’s mental health. \nPoupeh Babaee is an Iranian girl sent to live with her relatives in the United States. Although Poupeh understands and speaks English\, the stress of entering a new school in a foreign land renders her mute\, and she is diagnosed with selective mutism. Worse yet\, a travel ban–which labels Iran a “dangerous country”–has barred her parents from entering the US! Poupeh must now overcome her selective mutism to advocate for her parents during an interview with an embassy consular officer if she ever wants to see them again. \nUplifting and engaging\, Say Something\, Poupeh Babaee! depicts the healing power of therapy\, friendship\, and familial bonds. This is a message of hope to all the awkward\, overwhelmed immigrant children struggling to find acceptance.
URL:https://playhousevillage.org/event/vromans-bookstore-dr-haleh-massey-discusses-signs-say-something-poupeh-babaee-a-graphic-novel/
LOCATION:Vroman’s Bookstore
CATEGORIES:Books,Vroman's Bookstore
ATTACH;FMTTYPE=image/png:https://playhousevillage.org/wp-content/uploads/2025/08/dr-haleh-massey-600x600-1.png
END:VEVENT
BEGIN:VEVENT
DTSTART;TZID=America/Los_Angeles:20250524T150000
DTEND;TZID=America/Los_Angeles:20250524T160000
DTSTAMP:20260424T163506
CREATED:20250415T174032Z
LAST-MODIFIED:20250415T174032Z
UID:10013216-1748098800-1748102400@playhousevillage.org
SUMMARY:Vroman's Bookstore: Edward Underhill discusses In Case You Read This
DESCRIPTION:From acclaimed author Edward Underhill comes a trans rom-com about serendipity\, chance encounter\, and the ultimate missed connection. This joyful celebration of queer love and found family is perfect for fans of Becky Albertalli\, Emery Lee\, and Julian Winters. \nArden isn’t excited about moving. Los Angeles was an easy place to fit in and find a supportive queer community. But Winifred\, Michigan? That sounds like a much more difficult place to exist. \nPasadena\, California\, is the perfect city for Gabe’s reinvention. Everyone knew everything about him in small-town Shelby\, Illinois. Gabe\, who wants to be out and proud\, can’t wait to relocate. \nWhen Arden and Gabe randomly meet in the lobby of a motel in Nebraska\, it feels like fate. Both are trans\, but more importantly\, both are huge fans of the band Damaged Pixie Dream Boi. Clearly\, the universe is trying to tell them something. Right? \nBut after an incredible evening of hanging out\, the pair part ways only knowing the other’s first name. And as both boys struggle to adjust to their new homes\, their thoughts keep being drawn back to their time together. Is one perfect night enough to bring Arden and Gabe back to each other\, or will the boys need some help to find each other again?https://vromansbookstore.com/event/2025-05-24/edward-underhill-conversation-racquel-marie-discusses-case-you-read
URL:https://playhousevillage.org/event/vromans-bookstore-edward-underhill-discusses-in-case-you-read-this/
LOCATION:Vroman’s Bookstore
CATEGORIES:Books,Community Event,Free,In-Person,Vroman's Bookstore
ATTACH;FMTTYPE=image/png:https://playhousevillage.org/wp-content/uploads/2025/04/edward-u-600.png
END:VEVENT
BEGIN:VEVENT
DTSTART;TZID=America/Los_Angeles:20250410T090000
DTEND;TZID=America/Los_Angeles:20250410T153000
DTSTAMP:20260424T163506
CREATED:20250403T220330Z
LAST-MODIFIED:20250403T220330Z
UID:10013195-1744275600-1744299000@playhousevillage.org
SUMMARY:Vroman's Bookstore: Blood Drive
DESCRIPTION:The Huntington Health mobile blood donation team is pop-up at Vroman’s Bookstore get out and donate blood!\n\n\n\n\nThursday\, April 10 – 9am – 3:30pm\nVroman’s Book Store\n695 E. Colorado Blvd.\, Pasadena 91101\nPlease scan the QR code to sign up.
URL:https://playhousevillage.org/event/vromans-bookstore-blood-drive-2/
LOCATION:Vroman’s Bookstore
CATEGORIES:Community Event,Free,In-Person,Vroman's Bookstore
ATTACH;FMTTYPE=image/jpeg:https://playhousevillage.org/wp-content/uploads/2025/04/Vromans-Bookstore-Blood-Drive.jpg
END:VEVENT
BEGIN:VEVENT
DTSTART;TZID=America/Los_Angeles:20240126T190000
DTEND;TZID=America/Los_Angeles:20240126T190000
DTSTAMP:20260424T163506
CREATED:20231214T195929Z
LAST-MODIFIED:20231214T195929Z
UID:10004311-1706295600-1706295600@playhousevillage.org
SUMMARY:Vroman's: Becky Nicolaides\, in conversation with Naomi Hirahara\, The New Suburbia
DESCRIPTION:America’s suburbs have been transforming. The conventional story of suburbs as bastions of white\, middle-class homeowners no longer describes the suburbs of America’s cities. Today they house a more typical cross-section of the nation–rich\, poor\, Black American\, Latino\, Asian\, immigrant\, the unhoused\, the lavishly housed\, and everyone in between. Stories of everyday suburban life\, in the process\, have taken on new inflections. \nNowhere are these changes more vivid than in Los Angeles. In this suburban metropolis and global powerhouse\, lily white suburbs have virtually disappeared\, and over two-thirds of the County’s suburbs have become majority minority. Examining this vanguard of change from the postwar to the present\, The New Suburbia follows the Asian Americans\, Black Americans\, and Latinos who moved into white neighborhoods that once barred them. They bought homes\, enrolled their children in schools\, and began navigating suburban life. They faced a choice: would they remake the suburbs\, or would the suburbs remake them? In places like Pasadena\, San Marino\, South Gate\, and Lakewood\, suburbanites faced the challenges of living together in difference. Historian Becky Nicolaides explores a range of community experiences\, from internal resegregation to suburban poverty\, an embrace of law-and-order culture to police brutality\, friendly neighbors to social withdrawal. In some communities\, diverse residents continued longstanding habits of exclusion and perpetuated metropolitan inequality. In others\, they embraced more inclusive\, multicultural suburban ideals. Through it all\, the common denominators of suburbia remained–low-slung landscapes of single-family homes and families seeking the good life. \nAn authoritative work based on a half-century of quantitative data and unpublished oral histories and interviews\, The New Suburbia explores vital landscapes where the American dream has endured\, even as the dreamers have changed.
URL:https://playhousevillage.org/event/vromans-becky-nicolaides-in-conversation-with-naomi-hirahara-the-new-suburbia/
LOCATION:Vroman’s Bookstore
CATEGORIES:Books,Free,In-Person,Vroman's Bookstore
ATTACH;FMTTYPE=image/png:https://playhousevillage.org/wp-content/uploads/2023/12/Becky-Nicolaides-Banner.png
END:VEVENT
BEGIN:VEVENT
DTSTART;TZID=America/Los_Angeles:20231215T180000
DTEND;TZID=America/Los_Angeles:20231215T180000
DTSTAMP:20260424T163506
CREATED:20231113T224359Z
LAST-MODIFIED:20231113T224359Z
UID:10004150-1702663200-1702663200@playhousevillage.org
SUMMARY:Vroman's: Special Holiday Story time with Mr. Steve!
DESCRIPTION:Vroman’s Bookstore presents a special evening Holiday themed storytime with Mr. Steve. Feel free to come dressed in something comfy and /or holiday-themed! Treats and beverages will be provided.
URL:https://playhousevillage.org/event/vromans-special-holiday-story-time-with-mr-steve/
LOCATION:Vroman’s Bookstore
CATEGORIES:Books,Free,In-Person,Kids,Vroman's Bookstore
ATTACH;FMTTYPE=image/png:https://playhousevillage.org/wp-content/uploads/2023/11/Storytime-with-Mr.-Steve-.png
END:VEVENT
BEGIN:VEVENT
DTSTART;TZID=America/Los_Angeles:20231208T190000
DTEND;TZID=America/Los_Angeles:20231208T190000
DTSTAMP:20260424T163506
CREATED:20231113T220145Z
LAST-MODIFIED:20231113T220145Z
UID:10004144-1702062000-1702062000@playhousevillage.org
SUMMARY:Vromans: Enrico Gnaulati discusses Flourishing Love
DESCRIPTION:Flourishing Love is a secular defense of marriage and long-term intimate partnership. It rejects a moral-religious code to govern love lives and instead puts its faith in the human potential for couples to be benevolent\, loyal\, and forgiving to preserve and enhance their romantic union. Dr Gnaulati draws on a variety of sources to present the joint emotional upkeep necessary to make an intimate relationship not just satisfactory\, but vital\, and to illustrate what these lasting bonds look like. The latest science\, anecdotes from his own 30-year marriage as well as from his psychotherapy practice\, the musings of ancient and contemporary philosophers\, and real-life interviews from partners in long-term happy marriages and intimate unions are all used to reveal the secrets to a successful romantic partnership. The result is a how-to of engaging in attentive and sensitive communication; employing a fairness habit of mind around household chores\, childrearing responsibilities\, and finances; optimally moving through and beyond conflict; keeping an erotic spark alive; and ethically handling urges to stray outside the couple. A must-read for all those who crave meaning\, happiness\, and fulfilment in life and need their romantic partnerships to help\, not hinder\, in this endeavor.
URL:https://playhousevillage.org/event/vromans-enrico-gnaulati-discusses-flourishing-love/
LOCATION:Vroman’s Bookstore
CATEGORIES:Books,Free,In-Person,Vroman's Bookstore
ATTACH;FMTTYPE=image/png:https://playhousevillage.org/wp-content/uploads/2023/11/Enrico-Gnaulati-banner.png
END:VEVENT
BEGIN:VEVENT
DTSTART;TZID=America/Los_Angeles:20230914T190000
DTEND;TZID=America/Los_Angeles:20230914T190000
DTSTAMP:20260424T163506
CREATED:20230815T161352Z
LAST-MODIFIED:20230815T161352Z
UID:10003571-1694718000-1694718000@playhousevillage.org
SUMMARY:Vroman's: James Ellroy Discusses The Enchanters
DESCRIPTION:Los Angeles\, August 4\, 1962. The city broils through a midsummer heat wave. Marilyn Monroe ODs. A B-movie starlet is kidnapped. The overhyped LAPD overreacts. Chief Bill Parker’s looking for some getback. The Monroe deal looks like a moneymaker. He calls in Freddy Otash. \nThe freewheeling Freddy O: tainted ex-cop\, defrocked private eye\, dope fiend\, and freelance extortionist. A man who lives by the maxim “Opportunity is love.” Freddy gets to work. He dimly perceives Marilyn Monroe’s death and the kidnapped starlet to be a poisonous riddle that only he has the guts and the brains to untangle. We are with him as he tears through all those who block his path to the truth. We are with him as he penetrates the faux-sunshine of Jack and Bobby Kennedy and the shuck of Camelot. We are with him as he falters\, and grasps for love beyond opportunity. We are with him as he tracks Marilyn Monroe’s horrific last charade through a nightmare L.A. that he served to create — and as he confronts his complicity and his own raging madness. \nIt’s the Summer of ’62\, baby. Freddy O’s got a hot date with history. The savage Sixties are ready to pop. It’s just a shot away. \nThe Enchanters is a transcendent work of American popular fiction. It is James Ellroy at his most crazed\, brilliant\, provocative\, profanely hilarious\, and stop-your-heart tender. It is a luminous psychological drama and an unparalleled thrill ride. It is\, resoundingly\, the great American crime novel.
URL:https://playhousevillage.org/event/vromans-james-ellroy-discusses-the-enchanters/
LOCATION:Vroman’s Bookstore
CATEGORIES:Books,Free,In-Person,Vroman's Bookstore
END:VEVENT
END:VCALENDAR