BEGIN:VCALENDAR
VERSION:2.0
PRODID:-//Playhouse Village Association - ECPv6.15.20//NONSGML v1.0//EN
CALSCALE:GREGORIAN
METHOD:PUBLISH
X-WR-CALNAME:Playhouse Village Association
X-ORIGINAL-URL:https://playhousevillage.org
X-WR-CALDESC:Events for Playhouse Village Association
REFRESH-INTERVAL;VALUE=DURATION:PT1H
X-Robots-Tag:noindex
X-PUBLISHED-TTL:PT1H
BEGIN:VTIMEZONE
TZID:America/Los_Angeles
BEGIN:DAYLIGHT
TZOFFSETFROM:-0800
TZOFFSETTO:-0700
TZNAME:PDT
DTSTART:20250309T100000
END:DAYLIGHT
BEGIN:STANDARD
TZOFFSETFROM:-0700
TZOFFSETTO:-0800
TZNAME:PST
DTSTART:20251102T090000
END:STANDARD
BEGIN:DAYLIGHT
TZOFFSETFROM:-0800
TZOFFSETTO:-0700
TZNAME:PDT
DTSTART:20260308T100000
END:DAYLIGHT
BEGIN:STANDARD
TZOFFSETFROM:-0700
TZOFFSETTO:-0800
TZNAME:PST
DTSTART:20261101T090000
END:STANDARD
BEGIN:DAYLIGHT
TZOFFSETFROM:-0800
TZOFFSETTO:-0700
TZNAME:PDT
DTSTART:20270314T100000
END:DAYLIGHT
BEGIN:STANDARD
TZOFFSETFROM:-0700
TZOFFSETTO:-0800
TZNAME:PST
DTSTART:20271107T090000
END:STANDARD
END:VTIMEZONE
BEGIN:VEVENT
DTSTART;TZID=America/Los_Angeles:20260428T200000
DTEND;TZID=America/Los_Angeles:20260428T200000
DTSTAMP:20260424T145951
CREATED:20240119T235330Z
LAST-MODIFIED:20240522T211951Z
UID:10004711-1777406400-1777406400@playhousevillage.org
SUMMARY:T. Boyle's Tavern: Geeks who drink Trivia
DESCRIPTION:Tboyle Tavern is now hosting Geeks Who Drink trivia night every Tuesday Night starting at 8PM.
URL:https://playhousevillage.org/event/tboyle-tavern-geeks-who-drink-trivia/2026-04-28/
LOCATION:T. Boyle’s Tavern\, 37 N Catalina Ave\, Pasadena\, CA\, 91106\, Select a Country:
CATEGORIES:Community Event,Free,In-Person,T. Boyle's Tavern
ATTACH;FMTTYPE=image/png:https://playhousevillage.org/wp-content/uploads/2024/01/Screenshot-2024-01-19-at-3.49.36 PM.png
END:VEVENT
END:VCALENDAR