BEGIN:VCALENDAR
VERSION:2.0
PRODID:-//Playhouse Village Association - ECPv6.15.20//NONSGML v1.0//EN
CALSCALE:GREGORIAN
METHOD:PUBLISH
X-ORIGINAL-URL:https://playhousevillage.org
X-WR-CALDESC:Events for Playhouse Village Association
REFRESH-INTERVAL;VALUE=DURATION:PT1H
X-Robots-Tag:noindex
X-PUBLISHED-TTL:PT1H
BEGIN:VTIMEZONE
TZID:America/Los_Angeles
BEGIN:DAYLIGHT
TZOFFSETFROM:-0800
TZOFFSETTO:-0700
TZNAME:PDT
DTSTART:20250309T100000
END:DAYLIGHT
BEGIN:STANDARD
TZOFFSETFROM:-0700
TZOFFSETTO:-0800
TZNAME:PST
DTSTART:20251102T090000
END:STANDARD
BEGIN:DAYLIGHT
TZOFFSETFROM:-0800
TZOFFSETTO:-0700
TZNAME:PDT
DTSTART:20260308T100000
END:DAYLIGHT
BEGIN:STANDARD
TZOFFSETFROM:-0700
TZOFFSETTO:-0800
TZNAME:PST
DTSTART:20261101T090000
END:STANDARD
BEGIN:DAYLIGHT
TZOFFSETFROM:-0800
TZOFFSETTO:-0700
TZNAME:PDT
DTSTART:20270314T100000
END:DAYLIGHT
BEGIN:STANDARD
TZOFFSETFROM:-0700
TZOFFSETTO:-0800
TZNAME:PST
DTSTART:20271107T090000
END:STANDARD
END:VTIMEZONE
BEGIN:VEVENT
DTSTART;TZID=America/Los_Angeles:20260425T110000
DTEND;TZID=America/Los_Angeles:20260425T110000
DTSTAMP:20260425T035346
CREATED:20260319T232525Z
LAST-MODIFIED:20260319T232647Z
UID:10015190-1777114800-1777114800@playhousevillage.org
SUMMARY:Boston Court: Helix Collective’s Dooby Dooby Moo
DESCRIPTION:Helix Collective’s delightful live musical story time event for ages 3-7 features Dooby Dooby Moo (the third book in the Click Clack Moo series by Doreen Cronin with illustrations by Betsy Lewin). The book is set to original music by Helix Collective resident composer\, Phil Popham\, and narrated by Broadway and T.V. actress Rena Strober. \nDooby Dooby Moo continues the story of Farmer Brown’s animals from Click\, Clack\, Moo\, who enter a talent show in an attempt to win a trampoline. Duck leads the rehearsals including the cows’ “Twinkle\, Twinkle\, Little Star\,” the sheeps’ “Home on the Range\,” the pigs’ interpretive dance\, and Duck’s own version of Duck in the Wild. \nCome meet musicians\, explore instruments\, and hear Dooby\, Dooby\, Moo come to life!
URL:https://playhousevillage.org/event/boston-court-helix-collectives-dooby-dooby-moo/2026-04-25/1/
LOCATION:Boston Court Pasadena\, 70 N. Mentor Ave.\, Pasadena\, CA\, 91206\, United States
CATEGORIES:Boston Court Pasadena,In-Person,Kids,Music
ATTACH;FMTTYPE=image/jpeg:https://playhousevillage.org/wp-content/uploads/2026/03/Dooby-Dooby-Moo-Cover-570x400-1.jpg
END:VEVENT
BEGIN:VEVENT
DTSTART;TZID=America/Los_Angeles:20260523T140000
DTEND;TZID=America/Los_Angeles:20260523T140000
DTSTAMP:20260425T035346
CREATED:20260319T230528Z
LAST-MODIFIED:20260319T230528Z
UID:10015185-1779544800-1779544800@playhousevillage.org
SUMMARY:Boston Court: NT Live: All My Sons
DESCRIPTION:Bryan Cranston (Breaking Bad) and Marianne Jean-Baptiste (Hard Truths) feature in a five-star\, triumphantly acclaimed new production of Arthur Miller’s classic play\, from visionary director Ivo Van Hove (A View from the Bridge). \nOne family\, the heart of the American dream. When wartime delivers profits for Joe\, it comes at a price when his partner is charged with criminal manufacturing deals\, and his eldest son goes missing in action. Will peacetime bring peace of mind\, or will he be confronted by the consequence of his actions? \nFilmed live from the West End\, Paapa Essiedu (I May Destroy You)\, Tom Glynn-Carney (House of the Dragon)\, and Hayley Squires (I\, Daniel Blake) also feature in this disturbingly prescient play.
URL:https://playhousevillage.org/event/boston-court-nt-live-all-my-sons/2026-05-23/
LOCATION:Boston Court Pasadena\, 70 N. Mentor Ave.\, Pasadena\, CA\, 91206\, United States
CATEGORIES:Community Event,In-Person,Live Theatre,Screening
ATTACH;FMTTYPE=image/jpeg:https://playhousevillage.org/wp-content/uploads/2026/03/NTL-2026-All-My-Sons-Listing-Image-570x400-1.jpg
END:VEVENT
BEGIN:VEVENT
DTSTART;TZID=America/Los_Angeles:20260524T190000
DTEND;TZID=America/Los_Angeles:20260524T190000
DTSTAMP:20260425T035346
CREATED:20260319T232123Z
LAST-MODIFIED:20260319T232123Z
UID:10015189-1779649200-1779649200@playhousevillage.org
SUMMARY:Boston Court: NT Live: Mrs. Warren’s Profession
DESCRIPTION:Five-time Olivier Award winner Imelda Staunton (The Crown) joins forces with her real-life daughter Bessie Carter (Bridgerton) for the very first time\, playing mother and daughter in Bernard Shaw’s incendiary moral classic. Vivie Warren is a woman ahead of her time. Her mother\, however\, is a product of that old patriarchal order. Exploiting it has earned Mrs. Warren a fortune – but at what cost? \nFilmed live from the West End\, this new production reunites Staunton with director Dominic Cooke (Follies\, Good)\, exploring the clash between morality and independence\, traditions and progress. \nThe run time is approximately 2 hours.
URL:https://playhousevillage.org/event/boston-court-nt-live-mrs-warrens-profession/2026-05-24/
LOCATION:Boston Court Pasadena\, 70 N. Mentor Ave.\, Pasadena\, CA\, 91206\, United States
CATEGORIES:Boston Court Pasadena,Community Event,In-Person,Live Theatre,Screening
ATTACH;FMTTYPE=image/jpeg:https://playhousevillage.org/wp-content/uploads/2026/03/NTL-2025-Mrs.-Warrens-Profession-Listing-Image-Landscape-570x400-1.jpg
END:VEVENT
END:VCALENDAR