BEGIN:VCALENDAR
VERSION:2.0
PRODID:-//Playhouse Village Association - ECPv6.15.20//NONSGML v1.0//EN
CALSCALE:GREGORIAN
METHOD:PUBLISH
X-WR-CALNAME:Playhouse Village Association
X-ORIGINAL-URL:https://playhousevillage.org
X-WR-CALDESC:Events for Playhouse Village Association
REFRESH-INTERVAL;VALUE=DURATION:PT1H
X-Robots-Tag:noindex
X-PUBLISHED-TTL:PT1H
BEGIN:VTIMEZONE
TZID:America/Los_Angeles
BEGIN:DAYLIGHT
TZOFFSETFROM:-0800
TZOFFSETTO:-0700
TZNAME:PDT
DTSTART:20250309T100000
END:DAYLIGHT
BEGIN:STANDARD
TZOFFSETFROM:-0700
TZOFFSETTO:-0800
TZNAME:PST
DTSTART:20251102T090000
END:STANDARD
BEGIN:DAYLIGHT
TZOFFSETFROM:-0800
TZOFFSETTO:-0700
TZNAME:PDT
DTSTART:20260308T100000
END:DAYLIGHT
BEGIN:STANDARD
TZOFFSETFROM:-0700
TZOFFSETTO:-0800
TZNAME:PST
DTSTART:20261101T090000
END:STANDARD
BEGIN:DAYLIGHT
TZOFFSETFROM:-0800
TZOFFSETTO:-0700
TZNAME:PDT
DTSTART:20270314T100000
END:DAYLIGHT
BEGIN:STANDARD
TZOFFSETFROM:-0700
TZOFFSETTO:-0800
TZNAME:PST
DTSTART:20271107T090000
END:STANDARD
END:VTIMEZONE
BEGIN:VEVENT
DTSTART;TZID=America/Los_Angeles:20260423T190000
DTEND;TZID=America/Los_Angeles:20260423T210000
DTSTAMP:20260424T163613
CREATED:20240416T222149Z
LAST-MODIFIED:20240416T223218Z
UID:10006010-1776970800-1776978000@playhousevillage.org
SUMMARY:Anayas Restaurant: Whiskey & Mojitos
DESCRIPTION:Enjoy Mojito and whiskey on Thursdays at Anayas Restaurant!! Live music with Rodrigo! Make your reservations online or call in. The music starts at 7pm to 9pm.
URL:https://playhousevillage.org/event/anayas-restaurant-whiskey-mojitos/2026-04-23/
LOCATION:Anayas Restaurant\, 630 E Colorado\, Pasadena\, California\, 91101
CATEGORIES:Anayas Restaurant,Dining,Food,Free,In-Person,Music
ATTACH;FMTTYPE=image/png:https://playhousevillage.org/wp-content/uploads/2024/04/Screenshot-2024-04-16-at-3.20.22 PM.png
END:VEVENT
BEGIN:VEVENT
DTSTART;TZID=America/Los_Angeles:20260422T190000
DTEND;TZID=America/Los_Angeles:20260422T210000
DTSTAMP:20260424T163613
CREATED:20240416T222900Z
LAST-MODIFIED:20240416T222900Z
UID:10005749-1776884400-1776891600@playhousevillage.org
SUMMARY:Anayas Restaurant: Winedown Wednesdays
DESCRIPTION:Enjoy Winedown Wednesdays at Anayas Restaurant & Bar! Live music with Rodrigo! Make your reservations online or call in. They have specialty wines that you can pair with a delicious meal
URL:https://playhousevillage.org/event/anayas-restaurant-winedown-wednesdays/2026-04-22/
LOCATION:Anayas Restaurant\, 630 E Colorado\, Pasadena\, California\, 91101
CATEGORIES:Community Event,Dining,Food,Free,In-Person,Music
ATTACH;FMTTYPE=image/png:https://playhousevillage.org/wp-content/uploads/2024/04/Screenshot-2024-04-16-at-3.26.46 PM.png
END:VEVENT
END:VCALENDAR