BEGIN:VCALENDAR
VERSION:2.0
PRODID:-//Playhouse Village Association - ECPv6.15.20//NONSGML v1.0//EN
CALSCALE:GREGORIAN
METHOD:PUBLISH
X-WR-CALNAME:Playhouse Village Association
X-ORIGINAL-URL:https://playhousevillage.org
X-WR-CALDESC:Events for Playhouse Village Association
REFRESH-INTERVAL;VALUE=DURATION:PT1H
X-Robots-Tag:noindex
X-PUBLISHED-TTL:PT1H
BEGIN:VTIMEZONE
TZID:America/Los_Angeles
BEGIN:DAYLIGHT
TZOFFSETFROM:-0800
TZOFFSETTO:-0700
TZNAME:PDT
DTSTART:20250309T100000
END:DAYLIGHT
BEGIN:STANDARD
TZOFFSETFROM:-0700
TZOFFSETTO:-0800
TZNAME:PST
DTSTART:20251102T090000
END:STANDARD
BEGIN:DAYLIGHT
TZOFFSETFROM:-0800
TZOFFSETTO:-0700
TZNAME:PDT
DTSTART:20260308T100000
END:DAYLIGHT
BEGIN:STANDARD
TZOFFSETFROM:-0700
TZOFFSETTO:-0800
TZNAME:PST
DTSTART:20261101T090000
END:STANDARD
BEGIN:DAYLIGHT
TZOFFSETFROM:-0800
TZOFFSETTO:-0700
TZNAME:PDT
DTSTART:20270314T100000
END:DAYLIGHT
BEGIN:STANDARD
TZOFFSETFROM:-0700
TZOFFSETTO:-0800
TZNAME:PST
DTSTART:20271107T090000
END:STANDARD
END:VTIMEZONE
BEGIN:VEVENT
DTSTART;TZID=America/Los_Angeles:20260620T160000
DTEND;TZID=America/Los_Angeles:20260620T170000
DTSTAMP:20260425T125906
CREATED:20251104T004947Z
LAST-MODIFIED:20251104T004947Z
UID:10014513-1781971200-1781974800@playhousevillage.org
SUMMARY:Third@First: Christoph Bull\, Organ
DESCRIPTION:World-renowned organist Christoph Bull will play an eclectic program ranging from the classics to new works to the cinematic. Performance painter Norton Wisdom\, will interpret the music through painting in real time.
URL:https://playhousevillage.org/event/thirdfirst-christoph-bull-organ/
LOCATION:First United Methodist Church\, 500 E. Colorado Blvd.\, Pasadena\, CA\, 91101\, United States
CATEGORIES:In-Person,Music
ATTACH;FMTTYPE=image/webp:https://playhousevillage.org/wp-content/uploads/2025/11/Christoph-Bull-Organ.webp
END:VEVENT
BEGIN:VEVENT
DTSTART;TZID=America/Los_Angeles:20261018T160000
DTEND;TZID=America/Los_Angeles:20261018T170000
DTSTAMP:20260425T125906
CREATED:20251104T005355Z
LAST-MODIFIED:20251104T005355Z
UID:10014514-1792339200-1792342800@playhousevillage.org
SUMMARY:Third@First: Piano Extravaganza
DESCRIPTION:Acclaimed faculty pianists Bernadene Blaha (USC)\, Kevin Fitz-Gerald (USC)\, Sarkis Baltaian (Orange County School of the Arts)\, and First UMC’s own Junko Ueno Garrett (Occidental College) unite to play with eight hands on two pianos! Come hear music by Beethoven\, Rachmaninov\, Moscheles\, Ravel\, and Rossini.
URL:https://playhousevillage.org/event/thirdfirst-piano-extravaganza/
LOCATION:First United Methodist Church\, 500 E. Colorado Blvd.\, Pasadena\, CA\, 91101\, United States
CATEGORIES:First United Methodist Church,In-Person,Music
ATTACH;FMTTYPE=image/webp:https://playhousevillage.org/wp-content/uploads/2025/11/Screenshot2025-10-03at2.45.53-PM.webp
END:VEVENT
END:VCALENDAR