BEGIN:VCALENDAR
VERSION:2.0
PRODID:-//Playhouse Village Association - ECPv6.15.20//NONSGML v1.0//EN
CALSCALE:GREGORIAN
METHOD:PUBLISH
X-ORIGINAL-URL:https://playhousevillage.org
X-WR-CALDESC:Events for Playhouse Village Association
REFRESH-INTERVAL;VALUE=DURATION:PT1H
X-Robots-Tag:noindex
X-PUBLISHED-TTL:PT1H
BEGIN:VTIMEZONE
TZID:America/Los_Angeles
BEGIN:DAYLIGHT
TZOFFSETFROM:-0800
TZOFFSETTO:-0700
TZNAME:PDT
DTSTART:20250309T100000
END:DAYLIGHT
BEGIN:STANDARD
TZOFFSETFROM:-0700
TZOFFSETTO:-0800
TZNAME:PST
DTSTART:20251102T090000
END:STANDARD
BEGIN:DAYLIGHT
TZOFFSETFROM:-0800
TZOFFSETTO:-0700
TZNAME:PDT
DTSTART:20260308T100000
END:DAYLIGHT
BEGIN:STANDARD
TZOFFSETFROM:-0700
TZOFFSETTO:-0800
TZNAME:PST
DTSTART:20261101T090000
END:STANDARD
BEGIN:DAYLIGHT
TZOFFSETFROM:-0800
TZOFFSETTO:-0700
TZNAME:PDT
DTSTART:20270314T100000
END:DAYLIGHT
BEGIN:STANDARD
TZOFFSETFROM:-0700
TZOFFSETTO:-0800
TZNAME:PST
DTSTART:20271107T090000
END:STANDARD
END:VTIMEZONE
BEGIN:VEVENT
DTSTART;TZID=America/Los_Angeles:20260516T160000
DTEND;TZID=America/Los_Angeles:20260516T170000
DTSTAMP:20260425T091039
CREATED:20251104T004541Z
LAST-MODIFIED:20251104T004541Z
UID:10014512-1778947200-1778950800@playhousevillage.org
SUMMARY:Third@First:  Hers: Music Ensemble
DESCRIPTION:A newly formed group dedicated to the empowerment and uplifting of female identifying musical artists. This concert\, featuring award-winning vocalists Karen Hogle Brown and Tamara Bevard and pianist Jennie Jung\, will present vocal selections by celebrated LA female composers including Reena Esmail\, Zanaida Robles\, Dale Trumbore and many more.
URL:https://playhousevillage.org/event/thirdfirst-hers-music-ensemble/
LOCATION:CA
CATEGORIES:First United Methodist Church,In-Person,Music
ATTACH;FMTTYPE=image/webp:https://playhousevillage.org/wp-content/uploads/2025/11/Hers-Music-Ensemble.webp
END:VEVENT
BEGIN:VEVENT
DTSTART;TZID=America/Los_Angeles:20260517T110000
DTEND;TZID=America/Los_Angeles:20260517T110000
DTSTAMP:20260425T091039
CREATED:20260318T211208Z
LAST-MODIFIED:20260318T211208Z
UID:10015124-1779015600-1779015600@playhousevillage.org
SUMMARY:Vroman's Bookstore: Local Author Day (Young Readers Edition) Introducing Susana Porras & Matt Bolinger
DESCRIPTION:Susana Porras presents Danny’s Trails\nDanny’s Trails: Mossley\, England\, is loosely based on a true story and is filled with youthful creativity\, and lessons in inner awakening\, and mindfulness. This children’s book is appropriate for children ages 6-9. Consequently\, the story’s imaginative use of real landmarks\, walkable trail\, and map makes it engaging for readers of all ages.\nMatt Bolinger presents Dino Babies in Space \nFrom deep within the primordial bog emerges… the debut Graphic Novel of the Dino Babies comic series!!! There’s a rock barreling through space at about a million miles per hour about to collide with Earth and cause the most catastrophic climate event the world has ever known!! But in the deep recesses of a secret government facility\, a group of renegade dino scientists has kidnapped an elite group of dino babies. Follow along as Brik\, Luna\, Chonk\, and Yo-Yo begin their journey through the farthest reaches of space in a last-ditch effort to find a new homeworld. What kind of strange creatures\, and crazy adventures will they have along the way??
URL:https://playhousevillage.org/event/vromans-bookstore-local-author-day-young-readers-edition-introducing-susana-porras-matt-bolinger/
LOCATION:Vroman’s Bookstore\, 695 E. Colorado Blvd.\, Pasadena\, CA\, 91101\, United States
CATEGORIES:Books,Community Event,In-Person,Kids,Vroman's Bookstore
ATTACH;FMTTYPE=image/png:https://playhousevillage.org/wp-content/uploads/2026/03/local-authors-600-x-600-updated-kids-2.png
END:VEVENT
BEGIN:VEVENT
DTSTART;TZID=America/Los_Angeles:20260518T190000
DTEND;TZID=America/Los_Angeles:20260518T190000
DTSTAMP:20260425T091039
CREATED:20260318T211759Z
LAST-MODIFIED:20260318T211759Z
UID:10015125-1779130800-1779130800@playhousevillage.org
SUMMARY:Vroman's Bookstore: Tiffany Ezuma discusses & signs Major Gift: An 831 Stories Romance
DESCRIPTION:The widow of a tech mogul is determined to give her wealth away–and keep one secret from the journalist tasked with telling her story. A hot new take on the billionaire romance. \nWhen Ndidi Davis’s husband unexpectedly dies\, she’s left bereft–and with $2.1 billion in the bank. She channels her grief into launching a charitable foundation\, but the endeavor is made more complicated by Geoffrey Campbell\, an ambitious\, perceptive journalist assigned to profile her philanthropic pursuit. Geoffrey’s reporting slowly uncovers Ndidi’s whole heart–and some parts of her past she’s worked hard to keep out of the public eye.
URL:https://playhousevillage.org/event/vromans-bookstore-tiffany-ezuma-discusses-signs-major-gift-an-831-stories-romance/
LOCATION:Vroman’s Bookstore\, 695 E. Colorado Blvd.\, Pasadena\, CA\, 91101\, United States
CATEGORIES:Books,Vroman's Bookstore
ATTACH;FMTTYPE=image/png:https://playhousevillage.org/wp-content/uploads/2026/03/tiffany-ezuma.png
END:VEVENT
BEGIN:VEVENT
DTSTART;TZID=America/Los_Angeles:20260519T190000
DTEND;TZID=America/Los_Angeles:20260519T190000
DTSTAMP:20260425T091039
CREATED:20260318T212021Z
LAST-MODIFIED:20260318T212021Z
UID:10015126-1779217200-1779217200@playhousevillage.org
SUMMARY:Vroman's Bookstore: Alyssa Villaire discusses & signs The Neon Sky
DESCRIPTION:For fans of Stephanie Garber and Maggie Stiefvater comes the bewitching sequel to The Glittering Edge\, where magic is real\, witches make irresistible boyfriends\, and keeping secrets is dangerous–but not as dangerous as the truth. \nPenny Emberly didn’t expect to fall head over heels for Alonso De Luca last summer–or to discover that he’s a witch. Together with their friend Corey Barrion\, they managed to save her mother from a deadly spell. Now autumn has arrived\, and Penny believes they can take on anything. \nBut darkness is descending on the small town of Idlewood. Corey is desperate to undo the bloody legacy that made his family rich. The price\, however\, is steep: to unravel the magical bargain made by his grandfather\, Corey must take a life. \nAs Corey wrestles with an impossible choice\, Alonso begins to change. The more he pushes the limits of his magic\, the more volatile\, violent\, and possessive he becomes. When tragedy strikes one of their classmates\, the trio is forced to confront a terrifying question: is Alonso being consumed by something that’s bent on the destruction of everyone around him–especially Penny and Corey? \nAs supernatural forces drive them apart\, Penny\, Corey\, and Alonso must decide what they’re willing to sacrifice before more blood is spilled–even if it means losing each other.
URL:https://playhousevillage.org/event/vromans-bookstore-alyssa-villaire-discusses-signs-the-neon-sky/
LOCATION:Vroman’s Bookstore\, 695 E. Colorado Blvd.\, Pasadena\, CA\, 91101\, United States
CATEGORIES:Books,Community Event,Free,In-Person,Vroman's Bookstore
ATTACH;FMTTYPE=image/png:https://playhousevillage.org/wp-content/uploads/2026/03/alyssa-villaire.png
END:VEVENT
BEGIN:VEVENT
DTSTART;TZID=America/Los_Angeles:20260521T190000
DTEND;TZID=America/Los_Angeles:20260521T190000
DTSTAMP:20260425T091039
CREATED:20260318T212323Z
LAST-MODIFIED:20260318T212323Z
UID:10015127-1779390000-1779390000@playhousevillage.org
SUMMARY:Vroman's Bookstore: Natalie Lemle discusses & signs Artifacts
DESCRIPTION:For readers of The Cloisters and Counterfeit\, Natalie Lemle’s debut novel offers an insider’s view into the world of stolen artifacts and the hidden networks that link museums to organized crime\, when a woman is forced to remember the summer she spent on an archaeological dig in Italy\, as everyone she knew then may now be in danger. \nSuccessful trusts and estates attorney Lena Connolly is asked by a colleague to assist on a case: the Italian government claims an artifact was looted and sold to a museum illegally\, and is seeking repatriation. The object in question is a cup made of dichroic glass\, which would have been rare even in Ancient Rome\, let alone thousands of years later. \nLena has done everything she can to put the study abroad summer she spent on an archaeological dig in the Italian Alps behind her. Her dreams of being an archaeologist were shattered when her mentor\, Cyrille\, disappeared\, and her enigmatic boyfriend Giamma went dark\, but with this new case\, the past comes roaring back. \nTold in alternating timelines\, Artifacts follows young Lena as she falls in love with both archaeology and Giamma on the streets of Torino while her adult self pieces together what truly happened on the dig\, now a fully restored Roman villa with World Heritage status. The dichroic cup\, Lena discovers\, may have been taken from the very site she helped unearth. \nPowerful and exuberant\, Natalie Lemle’s Artifacts brings readers behind the museum glass and asks questions about cultural heritage and the historical preservation of our shared sense of humanity.
URL:https://playhousevillage.org/event/vromans-bookstore-natalie-lemle-discusses-signs-artifacts/
LOCATION:Vroman’s Bookstore\, 695 E. Colorado Blvd.\, Pasadena\, CA\, 91101\, United States
CATEGORIES:Books,Community Event,Free,In-Person,Vroman's Bookstore
ATTACH;FMTTYPE=image/png:https://playhousevillage.org/wp-content/uploads/2026/03/natalie-lemle.png
END:VEVENT
BEGIN:VEVENT
DTSTART;TZID=America/Los_Angeles:20260527T190000
DTEND;TZID=America/Los_Angeles:20260527T190000
DTSTAMP:20260425T091039
CREATED:20260318T212607Z
LAST-MODIFIED:20260318T212607Z
UID:10015128-1779908400-1779908400@playhousevillage.org
SUMMARY:Vroman's Bookstore:  Vroman's Fiction Reading Group
DESCRIPTION:The Vroman’s Fiction Reading Group explores contemporary fiction -long and short– from a diverse selection of writers.  Enjoy lively discussions at our one-hour meetings.  Our Fiction Reading Group is free and inclusive – there are no requirements or criteria to join. We announce upcoming titles 3-6 months in advance and choose titles that are available in paperback.  Drop by our next meeting! \nMay’s pick is Human Acts by Han Kang.
URL:https://playhousevillage.org/event/vromans-bookstore-vromans-fiction-reading-group/
LOCATION:Vroman’s Bookstore\, 695 E. Colorado Blvd.\, Pasadena\, CA\, 91101\, United States
CATEGORIES:Books,Community Event,Vroman's Bookstore
ATTACH;FMTTYPE=image/png:https://playhousevillage.org/wp-content/uploads/2026/03/heading-26-1.png
END:VEVENT
BEGIN:VEVENT
DTSTART;TZID=America/Los_Angeles:20260620T160000
DTEND;TZID=America/Los_Angeles:20260620T170000
DTSTAMP:20260425T091039
CREATED:20251104T004947Z
LAST-MODIFIED:20251104T004947Z
UID:10014513-1781971200-1781974800@playhousevillage.org
SUMMARY:Third@First: Christoph Bull\, Organ
DESCRIPTION:World-renowned organist Christoph Bull will play an eclectic program ranging from the classics to new works to the cinematic. Performance painter Norton Wisdom\, will interpret the music through painting in real time.
URL:https://playhousevillage.org/event/thirdfirst-christoph-bull-organ/
LOCATION:First United Methodist Church\, 500 E. Colorado Blvd.\, Pasadena\, CA\, 91101\, United States
CATEGORIES:In-Person,Music
ATTACH;FMTTYPE=image/webp:https://playhousevillage.org/wp-content/uploads/2025/11/Christoph-Bull-Organ.webp
END:VEVENT
BEGIN:VEVENT
DTSTART;TZID=America/Los_Angeles:20261018T160000
DTEND;TZID=America/Los_Angeles:20261018T170000
DTSTAMP:20260425T091039
CREATED:20251104T005355Z
LAST-MODIFIED:20251104T005355Z
UID:10014514-1792339200-1792342800@playhousevillage.org
SUMMARY:Third@First: Piano Extravaganza
DESCRIPTION:Acclaimed faculty pianists Bernadene Blaha (USC)\, Kevin Fitz-Gerald (USC)\, Sarkis Baltaian (Orange County School of the Arts)\, and First UMC’s own Junko Ueno Garrett (Occidental College) unite to play with eight hands on two pianos! Come hear music by Beethoven\, Rachmaninov\, Moscheles\, Ravel\, and Rossini.
URL:https://playhousevillage.org/event/thirdfirst-piano-extravaganza/
LOCATION:First United Methodist Church\, 500 E. Colorado Blvd.\, Pasadena\, CA\, 91101\, United States
CATEGORIES:First United Methodist Church,In-Person,Music
ATTACH;FMTTYPE=image/webp:https://playhousevillage.org/wp-content/uploads/2025/11/Screenshot2025-10-03at2.45.53-PM.webp
END:VEVENT
END:VCALENDAR