BEGIN:VCALENDAR
VERSION:2.0
PRODID:-//Playhouse Village Association - ECPv6.15.20//NONSGML v1.0//EN
CALSCALE:GREGORIAN
METHOD:PUBLISH
X-ORIGINAL-URL:https://playhousevillage.org
X-WR-CALDESC:Events for Playhouse Village Association
REFRESH-INTERVAL;VALUE=DURATION:PT1H
X-Robots-Tag:noindex
X-PUBLISHED-TTL:PT1H
BEGIN:VTIMEZONE
TZID:America/Los_Angeles
BEGIN:DAYLIGHT
TZOFFSETFROM:-0800
TZOFFSETTO:-0700
TZNAME:PDT
DTSTART:20250309T100000
END:DAYLIGHT
BEGIN:STANDARD
TZOFFSETFROM:-0700
TZOFFSETTO:-0800
TZNAME:PST
DTSTART:20251102T090000
END:STANDARD
BEGIN:DAYLIGHT
TZOFFSETFROM:-0800
TZOFFSETTO:-0700
TZNAME:PDT
DTSTART:20260308T100000
END:DAYLIGHT
BEGIN:STANDARD
TZOFFSETFROM:-0700
TZOFFSETTO:-0800
TZNAME:PST
DTSTART:20261101T090000
END:STANDARD
BEGIN:DAYLIGHT
TZOFFSETFROM:-0800
TZOFFSETTO:-0700
TZNAME:PDT
DTSTART:20270314T100000
END:DAYLIGHT
BEGIN:STANDARD
TZOFFSETFROM:-0700
TZOFFSETTO:-0800
TZNAME:PST
DTSTART:20271107T090000
END:STANDARD
END:VTIMEZONE
BEGIN:VEVENT
DTSTART;TZID=America/Los_Angeles:20260430T120000
DTEND;TZID=America/Los_Angeles:20260430T150000
DTSTAMP:20260424T132308
CREATED:20260318T173412Z
LAST-MODIFIED:20260318T174621Z
UID:10015093-1777550400-1777561200@playhousevillage.org
SUMMARY:SCCM: Play for all abilities
DESCRIPTION:We welcome children and families of all abilities. Play for All Abilities hours take place the last Thursday of every month from 12:00-3:00 PM. These are dedicated play hours when we welcome families and children with developmental differences. Play for All Abilities means we stand true to our values of access and inclusion.  \nDuring Play for All Abilities hours\, we adjust our space and programs to provide: \n\nLess crowded space\nQuiet atmosphere with limited stimuli (low lights\, no music\, no microphone)\nProvide space for families to build community and children to make friends\nSensory backpacks\, which include noise-cancelling headphones and sensory toys*\nVisual guide\nNonverbal communication cards\n\nRegular admission applies. Play passes may be used for this event. \nCan’t make it during Play for All Abilities hours? Our sensory backpacks are available any day of the week as a free daily rental\, ask a staff member at check-in!
URL:https://playhousevillage.org/event/sccm-play-for-all-abilities/2026-04-30/
LOCATION:Southern California Children’s Museum\, 459 E. Colorado Blvd\, Pasadena\, CA\, 91011\, United States
CATEGORIES:Community Event,Craft & DIY,In-Person,Kids,Southern California Children's Museum
ATTACH;FMTTYPE=image/jpeg:https://playhousevillage.org/wp-content/uploads/2026/03/IMG-1524-2.jpg
GEO:34.146151;-118.1408823
X-APPLE-STRUCTURED-LOCATION;VALUE=URI;X-ADDRESS=Southern California Children’s Museum 459 E. Colorado Blvd Pasadena CA 91011 United States;X-APPLE-RADIUS=500;X-TITLE=459 E. Colorado Blvd:geo:-118.1408823,34.146151
END:VEVENT
BEGIN:VEVENT
DTSTART;TZID=America/Los_Angeles:20260430T190000
DTEND;TZID=America/Los_Angeles:20260430T190000
DTSTAMP:20260424T132308
CREATED:20260318T190318Z
LAST-MODIFIED:20260318T190318Z
UID:10015115-1777575600-1777575600@playhousevillage.org
SUMMARY:Vroman's Bookstore: TICKETED - Jordan Harper\, in conversation with S.A. Cosby\, discusses & signs A Violent Masterpiece
DESCRIPTION:The next epic crime novel from Jordan Harper\, a story of Los Angeles power brokers and those at the edge\, and a single shattering incident that threatens to bring it all crashing down. \nLos Angeles\, right now. America with its back up against the wall. This Frankenstein’s monster of crimes and lurid dreams sewn together into something like a city. \nA city ready to explode: A Hollywood pedophile is arrested\, and is ready to tear down the city to get his freedom. A young woman goes missing — and men in black rubber gloves who look like cops clean out her apartment in the middle of the night. And the serial killer known as the LA Ripper is on the loose\, leaving tragic/graphic/brutal crime scenes in his wake. Three people trying to keep their heads above the dirty water will find themselves coming together to unite these strands into one enormous\, unspeakable crime … \nJake Deal is a gonzo live-streaming nightcrawler\, beaming the city’s chaos straight to his audience of blood-hungry subscribers\, giving them the view from the top of the mushroom cloud — until a job he can’t refuse drags him back into his old life of Hollywood glamour\, drugs\, sex and sleaze. Armed with cameras and hidden mics\, he’ll infiltrate private clubs\, gather high-class dirt — and stumble onto a conspiracy woven into the center of LA’s most powerful men\, who call themselves “The Kids in the Candy Store.” \nDoug Gibson is a street lawyer\, who fights for his clients against the army of cops\, prosecutors and judges – he is the knife they bring to the gunfight. But when he’s hired by a Hollywood pedophile ready to sell out his friends for a chance for freedom\, he’ll take on a fight bigger than he could have imagined. And when his client “commits suicide” in prison\, Gibson will have to stop being a weapon – and become a warrior. \nKara Delgado works for an underground private concierge company – a make-a-wish foundation for the terminally rich. She scores drugs\, makes connections\, and plans multi-million dollar sex parties.She has learned the secret truth of this world: there are no rules\, only prices. Her best friend Phoebe has gone missing\, and Kara’s the only person who knows that Phoebe’s place was wiped clean of evidence by men in black rubber gloves. But when she begins to unravel the mystery of what happened to Phoebe\, and its connection to the killer known as the LA Ripper\, it will drag her into the dark heart of the city. \nAs Jake\, Doug and Kara all investigate these crimes\, they’ll encounter ketamine-addled sitcom stars\, bloody riots\, homeless gangsters\, a killer cop on death row\, secret vaults in Beverly Hills\, tech-bro orgies\, medical cannibals\, true crime junkies\, private security wet-work teams\, reality shows\, street takeovers\, car chases\, coyotes\, a sadistic Tarzan\, and a three day\, fifty million dollar wedding\, before everything is revealed and they must each make their choice about how to fight back in this violent world before the bloody\, blazing conclusion.\n \nThis is a ticketed program and will take place at Vroman’s Bookstore\, located at 695 E. Colorado Blvd\, Pasadena\, CA 91101. \nYour Eventbrite ticket will include a copy of A Violent Masterpiece\, to be handed out at check-in on the night of the program.
URL:https://playhousevillage.org/event/vromans-bookstore-ticketed-jordan-harper-in-conversation-with-s-a-cosby-discusses-signs-a-violent-masterpiece/
LOCATION:Vroman’s Bookstore\, 695 E. Colorado Blvd.\, Pasadena\, CA\, 91101\, United States
CATEGORIES:Books,Community Event,Free,In-Person,Vroman's Bookstore
ATTACH;FMTTYPE=image/png:https://playhousevillage.org/wp-content/uploads/2026/03/jordan-harper-ticketed-website-event.png
END:VEVENT
BEGIN:VEVENT
DTSTART;TZID=America/Los_Angeles:20260430T190000
DTEND;TZID=America/Los_Angeles:20260430T210000
DTSTAMP:20260424T132308
CREATED:20240416T222149Z
LAST-MODIFIED:20240416T223218Z
UID:10006011-1777575600-1777582800@playhousevillage.org
SUMMARY:Anayas Restaurant: Whiskey & Mojitos
DESCRIPTION:Enjoy Mojito and whiskey on Thursdays at Anayas Restaurant!! Live music with Rodrigo! Make your reservations online or call in. The music starts at 7pm to 9pm.
URL:https://playhousevillage.org/event/anayas-restaurant-whiskey-mojitos/2026-04-30/
LOCATION:Anayas Restaurant\, 630 E Colorado\, Pasadena\, California\, 91101
CATEGORIES:Anayas Restaurant,Dining,Food,Free,In-Person,Music
ATTACH;FMTTYPE=image/png:https://playhousevillage.org/wp-content/uploads/2024/04/Screenshot-2024-04-16-at-3.20.22 PM.png
END:VEVENT
END:VCALENDAR