BEGIN:VCALENDAR
VERSION:2.0
PRODID:-//Playhouse Village Association - ECPv6.15.20//NONSGML v1.0//EN
CALSCALE:GREGORIAN
METHOD:PUBLISH
X-ORIGINAL-URL:https://playhousevillage.org
X-WR-CALDESC:Events for Playhouse Village Association
REFRESH-INTERVAL;VALUE=DURATION:PT1H
X-Robots-Tag:noindex
X-PUBLISHED-TTL:PT1H
BEGIN:VTIMEZONE
TZID:America/Los_Angeles
BEGIN:DAYLIGHT
TZOFFSETFROM:-0800
TZOFFSETTO:-0700
TZNAME:PDT
DTSTART:20250309T100000
END:DAYLIGHT
BEGIN:STANDARD
TZOFFSETFROM:-0700
TZOFFSETTO:-0800
TZNAME:PST
DTSTART:20251102T090000
END:STANDARD
BEGIN:DAYLIGHT
TZOFFSETFROM:-0800
TZOFFSETTO:-0700
TZNAME:PDT
DTSTART:20260308T100000
END:DAYLIGHT
BEGIN:STANDARD
TZOFFSETFROM:-0700
TZOFFSETTO:-0800
TZNAME:PST
DTSTART:20261101T090000
END:STANDARD
BEGIN:DAYLIGHT
TZOFFSETFROM:-0800
TZOFFSETTO:-0700
TZNAME:PDT
DTSTART:20270314T100000
END:DAYLIGHT
BEGIN:STANDARD
TZOFFSETFROM:-0700
TZOFFSETTO:-0800
TZNAME:PST
DTSTART:20271107T090000
END:STANDARD
END:VTIMEZONE
BEGIN:VEVENT
DTSTART;TZID=America/Los_Angeles:20260427T180000
DTEND;TZID=America/Los_Angeles:20260427T180000
DTSTAMP:20260424T145951
CREATED:20230720T205755Z
LAST-MODIFIED:20240916T170609Z
UID:10007239-1777312800-1777312800@playhousevillage.org
SUMMARY:Run With Us: Monday Fun Run
DESCRIPTION:Run With Us presents “Monday Fun Run!” Win Prizes. Test out shoes. Join a community! We have 4 and 6-mile options. All paces\, runners\, walkers\, and furry friends are welcome! Meet new runners\, test out the latest footwear releases from favorite brands\, and win awesome prizes at the end of each month. This is a social run that is for runners of all abilities. Monday Fun Run meets in the parking lot behind the store.
URL:https://playhousevillage.org/event/run-with-us-monday-fun-run-2/2026-04-27/
LOCATION:Run With Us\, 235 N. Lake Ave.\, Pasadena\, CA\, 91101\, United States
CATEGORIES:Fitness,Free,Run With Us
ATTACH;FMTTYPE=image/jpeg:https://playhousevillage.org/wp-content/uploads/2023/06/Run-With-Us.jpg
END:VEVENT
BEGIN:VEVENT
DTSTART;TZID=America/Los_Angeles:20260427T190000
DTEND;TZID=America/Los_Angeles:20260427T190000
DTSTAMP:20260424T145951
CREATED:20260318T184657Z
LAST-MODIFIED:20260318T184705Z
UID:10015113-1777316400-1777316400@playhousevillage.org
SUMMARY:Vroman's Bookstore: TICKETED - Maria Semple\, in conversation with Jennette McCurdy\, discusses & signs Go Gentle
DESCRIPTION:“Maria Semple is a treasure.” –Los Angeles Times \nThe New York Times bestselling author of Where’d You Go\, Bernadette returns to form in her most exuberant and life-affirming novel yet with the story of one woman’s cheerful determination to live a life of the mind only to have the heart force its way in. \nAdora Hazzard has it all figured out. A Stoic philosopher and divorcée\, she lives a contented life on New York City’s Upper West Side. Having discovered that the secret to happiness is to desire only what you have\, she’s applied this insight to blissful effect: relishing her teenage daughter\, the freedom of being solo\, and her job as a moral tutor for the twin boys of an old-money family. She’s even assembled a “coven”–like-minded women who live on the same floor in the legendary Ansonia–and is making active efforts to grow its membership. Adora’s carefully curated life is humming along brilliantly until a chance meeting with a handsome stranger. \nSoon\, her ordered world is upended by black-market art deals\, secret rendezvous\, and international intrigue . . . and her past–which she has worked so hard to bury–lands like a bomb in her present. Inflamed by unquenchable desire\, Adora finds herself a woman wanting more: and she’ll risk everything to get it. \nAdora Hazzard’s journey of self-discovery will grip you from the start. Romantic\, hilarious\, intelligent\, and bursting with the stuff of life\, Go Gentle is a thrilling story of one woman’s mid-life transformation\, cementing Maria Semple in the pantheon of our most exciting and important contemporary writers.
URL:https://playhousevillage.org/event/vromans-bookstore-ticketed-maria-semple-in-conversation-with-jennette-mccurdy-discusses-signs-go-gentle/
LOCATION:Vroman’s Bookstore\, 695 E. Colorado Blvd.\, Pasadena\, CA\, 91101\, United States
CATEGORIES:Books,Community Event,Free,In-Person,Vroman's Bookstore
ATTACH;FMTTYPE=image/png:https://playhousevillage.org/wp-content/uploads/2026/03/maria-semple-web.png
END:VEVENT
END:VCALENDAR