BEGIN:VCALENDAR
VERSION:2.0
PRODID:-//Playhouse Village Association - ECPv6.15.20//NONSGML v1.0//EN
CALSCALE:GREGORIAN
METHOD:PUBLISH
X-WR-CALNAME:Playhouse Village Association
X-ORIGINAL-URL:https://playhousevillage.org
X-WR-CALDESC:Events for Playhouse Village Association
REFRESH-INTERVAL;VALUE=DURATION:PT1H
X-Robots-Tag:noindex
X-PUBLISHED-TTL:PT1H
BEGIN:VTIMEZONE
TZID:America/Los_Angeles
BEGIN:DAYLIGHT
TZOFFSETFROM:-0800
TZOFFSETTO:-0700
TZNAME:PDT
DTSTART:20250309T100000
END:DAYLIGHT
BEGIN:STANDARD
TZOFFSETFROM:-0700
TZOFFSETTO:-0800
TZNAME:PST
DTSTART:20251102T090000
END:STANDARD
BEGIN:DAYLIGHT
TZOFFSETFROM:-0800
TZOFFSETTO:-0700
TZNAME:PDT
DTSTART:20260308T100000
END:DAYLIGHT
BEGIN:STANDARD
TZOFFSETFROM:-0700
TZOFFSETTO:-0800
TZNAME:PST
DTSTART:20261101T090000
END:STANDARD
BEGIN:DAYLIGHT
TZOFFSETFROM:-0800
TZOFFSETTO:-0700
TZNAME:PDT
DTSTART:20270314T100000
END:DAYLIGHT
BEGIN:STANDARD
TZOFFSETFROM:-0700
TZOFFSETTO:-0800
TZNAME:PST
DTSTART:20271107T090000
END:STANDARD
BEGIN:DAYLIGHT
TZOFFSETFROM:-0800
TZOFFSETTO:-0700
TZNAME:PDT
DTSTART:20280312T100000
END:DAYLIGHT
BEGIN:STANDARD
TZOFFSETFROM:-0700
TZOFFSETTO:-0800
TZNAME:PST
DTSTART:20281105T090000
END:STANDARD
BEGIN:DAYLIGHT
TZOFFSETFROM:-0800
TZOFFSETTO:-0700
TZNAME:PDT
DTSTART:20290311T100000
END:DAYLIGHT
BEGIN:STANDARD
TZOFFSETFROM:-0700
TZOFFSETTO:-0800
TZNAME:PST
DTSTART:20291104T090000
END:STANDARD
BEGIN:DAYLIGHT
TZOFFSETFROM:-0800
TZOFFSETTO:-0700
TZNAME:PDT
DTSTART:20300310T100000
END:DAYLIGHT
BEGIN:STANDARD
TZOFFSETFROM:-0700
TZOFFSETTO:-0800
TZNAME:PST
DTSTART:20301103T090000
END:STANDARD
BEGIN:DAYLIGHT
TZOFFSETFROM:-0800
TZOFFSETTO:-0700
TZNAME:PDT
DTSTART:20310309T100000
END:DAYLIGHT
BEGIN:STANDARD
TZOFFSETFROM:-0700
TZOFFSETTO:-0800
TZNAME:PST
DTSTART:20311102T090000
END:STANDARD
BEGIN:DAYLIGHT
TZOFFSETFROM:-0800
TZOFFSETTO:-0700
TZNAME:PDT
DTSTART:20320314T100000
END:DAYLIGHT
BEGIN:STANDARD
TZOFFSETFROM:-0700
TZOFFSETTO:-0800
TZNAME:PST
DTSTART:20321107T090000
END:STANDARD
BEGIN:DAYLIGHT
TZOFFSETFROM:-0800
TZOFFSETTO:-0700
TZNAME:PDT
DTSTART:20330313T100000
END:DAYLIGHT
BEGIN:STANDARD
TZOFFSETFROM:-0700
TZOFFSETTO:-0800
TZNAME:PST
DTSTART:20331106T090000
END:STANDARD
BEGIN:DAYLIGHT
TZOFFSETFROM:-0800
TZOFFSETTO:-0700
TZNAME:PDT
DTSTART:20340312T100000
END:DAYLIGHT
BEGIN:STANDARD
TZOFFSETFROM:-0700
TZOFFSETTO:-0800
TZNAME:PST
DTSTART:20341105T090000
END:STANDARD
BEGIN:DAYLIGHT
TZOFFSETFROM:-0800
TZOFFSETTO:-0700
TZNAME:PDT
DTSTART:20350311T100000
END:DAYLIGHT
BEGIN:STANDARD
TZOFFSETFROM:-0700
TZOFFSETTO:-0800
TZNAME:PST
DTSTART:20351104T090000
END:STANDARD
BEGIN:DAYLIGHT
TZOFFSETFROM:-0800
TZOFFSETTO:-0700
TZNAME:PDT
DTSTART:20360309T100000
END:DAYLIGHT
BEGIN:STANDARD
TZOFFSETFROM:-0700
TZOFFSETTO:-0800
TZNAME:PST
DTSTART:20361102T090000
END:STANDARD
BEGIN:DAYLIGHT
TZOFFSETFROM:-0800
TZOFFSETTO:-0700
TZNAME:PDT
DTSTART:20370308T100000
END:DAYLIGHT
BEGIN:STANDARD
TZOFFSETFROM:-0700
TZOFFSETTO:-0800
TZNAME:PST
DTSTART:20371101T090000
END:STANDARD
BEGIN:DAYLIGHT
TZOFFSETFROM:-0800
TZOFFSETTO:-0700
TZNAME:PDT
DTSTART:20380314T100000
END:DAYLIGHT
BEGIN:STANDARD
TZOFFSETFROM:-0700
TZOFFSETTO:-0800
TZNAME:PST
DTSTART:20381107T090000
END:STANDARD
BEGIN:DAYLIGHT
TZOFFSETFROM:-0800
TZOFFSETTO:-0700
TZNAME:PDT
DTSTART:20390313T100000
END:DAYLIGHT
BEGIN:STANDARD
TZOFFSETFROM:-0700
TZOFFSETTO:-0800
TZNAME:PST
DTSTART:20391106T090000
END:STANDARD
BEGIN:DAYLIGHT
TZOFFSETFROM:-0800
TZOFFSETTO:-0700
TZNAME:PDT
DTSTART:20400311T100000
END:DAYLIGHT
BEGIN:STANDARD
TZOFFSETFROM:-0700
TZOFFSETTO:-0800
TZNAME:PST
DTSTART:20401104T090000
END:STANDARD
BEGIN:DAYLIGHT
TZOFFSETFROM:-0800
TZOFFSETTO:-0700
TZNAME:PDT
DTSTART:20410310T100000
END:DAYLIGHT
BEGIN:STANDARD
TZOFFSETFROM:-0700
TZOFFSETTO:-0800
TZNAME:PST
DTSTART:20411103T090000
END:STANDARD
BEGIN:DAYLIGHT
TZOFFSETFROM:-0800
TZOFFSETTO:-0700
TZNAME:PDT
DTSTART:20420309T100000
END:DAYLIGHT
BEGIN:STANDARD
TZOFFSETFROM:-0700
TZOFFSETTO:-0800
TZNAME:PST
DTSTART:20421102T090000
END:STANDARD
BEGIN:DAYLIGHT
TZOFFSETFROM:-0800
TZOFFSETTO:-0700
TZNAME:PDT
DTSTART:20430308T100000
END:DAYLIGHT
BEGIN:STANDARD
TZOFFSETFROM:-0700
TZOFFSETTO:-0800
TZNAME:PST
DTSTART:20431101T090000
END:STANDARD
BEGIN:DAYLIGHT
TZOFFSETFROM:-0800
TZOFFSETTO:-0700
TZNAME:PDT
DTSTART:20440313T100000
END:DAYLIGHT
BEGIN:STANDARD
TZOFFSETFROM:-0700
TZOFFSETTO:-0800
TZNAME:PST
DTSTART:20441106T090000
END:STANDARD
BEGIN:DAYLIGHT
TZOFFSETFROM:-0800
TZOFFSETTO:-0700
TZNAME:PDT
DTSTART:20450312T100000
END:DAYLIGHT
BEGIN:STANDARD
TZOFFSETFROM:-0700
TZOFFSETTO:-0800
TZNAME:PST
DTSTART:20451105T090000
END:STANDARD
BEGIN:DAYLIGHT
TZOFFSETFROM:-0800
TZOFFSETTO:-0700
TZNAME:PDT
DTSTART:20460311T100000
END:DAYLIGHT
BEGIN:STANDARD
TZOFFSETFROM:-0700
TZOFFSETTO:-0800
TZNAME:PST
DTSTART:20461104T090000
END:STANDARD
BEGIN:DAYLIGHT
TZOFFSETFROM:-0800
TZOFFSETTO:-0700
TZNAME:PDT
DTSTART:20470310T100000
END:DAYLIGHT
BEGIN:STANDARD
TZOFFSETFROM:-0700
TZOFFSETTO:-0800
TZNAME:PST
DTSTART:20471103T090000
END:STANDARD
BEGIN:DAYLIGHT
TZOFFSETFROM:-0800
TZOFFSETTO:-0700
TZNAME:PDT
DTSTART:20480308T100000
END:DAYLIGHT
BEGIN:STANDARD
TZOFFSETFROM:-0700
TZOFFSETTO:-0800
TZNAME:PST
DTSTART:20481101T090000
END:STANDARD
BEGIN:DAYLIGHT
TZOFFSETFROM:-0800
TZOFFSETTO:-0700
TZNAME:PDT
DTSTART:20490314T100000
END:DAYLIGHT
BEGIN:STANDARD
TZOFFSETFROM:-0700
TZOFFSETTO:-0800
TZNAME:PST
DTSTART:20491107T090000
END:STANDARD
BEGIN:DAYLIGHT
TZOFFSETFROM:-0800
TZOFFSETTO:-0700
TZNAME:PDT
DTSTART:20500313T100000
END:DAYLIGHT
BEGIN:STANDARD
TZOFFSETFROM:-0700
TZOFFSETTO:-0800
TZNAME:PST
DTSTART:20501106T090000
END:STANDARD
BEGIN:DAYLIGHT
TZOFFSETFROM:-0800
TZOFFSETTO:-0700
TZNAME:PDT
DTSTART:20510312T100000
END:DAYLIGHT
BEGIN:STANDARD
TZOFFSETFROM:-0700
TZOFFSETTO:-0800
TZNAME:PST
DTSTART:20511105T090000
END:STANDARD
BEGIN:DAYLIGHT
TZOFFSETFROM:-0800
TZOFFSETTO:-0700
TZNAME:PDT
DTSTART:20520310T100000
END:DAYLIGHT
BEGIN:STANDARD
TZOFFSETFROM:-0700
TZOFFSETTO:-0800
TZNAME:PST
DTSTART:20521103T090000
END:STANDARD
BEGIN:DAYLIGHT
TZOFFSETFROM:-0800
TZOFFSETTO:-0700
TZNAME:PDT
DTSTART:20530309T100000
END:DAYLIGHT
BEGIN:STANDARD
TZOFFSETFROM:-0700
TZOFFSETTO:-0800
TZNAME:PST
DTSTART:20531102T090000
END:STANDARD
BEGIN:DAYLIGHT
TZOFFSETFROM:-0800
TZOFFSETTO:-0700
TZNAME:PDT
DTSTART:20540308T100000
END:DAYLIGHT
BEGIN:STANDARD
TZOFFSETFROM:-0700
TZOFFSETTO:-0800
TZNAME:PST
DTSTART:20541101T090000
END:STANDARD
BEGIN:DAYLIGHT
TZOFFSETFROM:-0800
TZOFFSETTO:-0700
TZNAME:PDT
DTSTART:20550314T100000
END:DAYLIGHT
BEGIN:STANDARD
TZOFFSETFROM:-0700
TZOFFSETTO:-0800
TZNAME:PST
DTSTART:20551107T090000
END:STANDARD
BEGIN:DAYLIGHT
TZOFFSETFROM:-0800
TZOFFSETTO:-0700
TZNAME:PDT
DTSTART:20560312T100000
END:DAYLIGHT
BEGIN:STANDARD
TZOFFSETFROM:-0700
TZOFFSETTO:-0800
TZNAME:PST
DTSTART:20561105T090000
END:STANDARD
BEGIN:DAYLIGHT
TZOFFSETFROM:-0800
TZOFFSETTO:-0700
TZNAME:PDT
DTSTART:20570311T100000
END:DAYLIGHT
BEGIN:STANDARD
TZOFFSETFROM:-0700
TZOFFSETTO:-0800
TZNAME:PST
DTSTART:20571104T090000
END:STANDARD
BEGIN:DAYLIGHT
TZOFFSETFROM:-0800
TZOFFSETTO:-0700
TZNAME:PDT
DTSTART:20580310T100000
END:DAYLIGHT
BEGIN:STANDARD
TZOFFSETFROM:-0700
TZOFFSETTO:-0800
TZNAME:PST
DTSTART:20581103T090000
END:STANDARD
BEGIN:DAYLIGHT
TZOFFSETFROM:-0800
TZOFFSETTO:-0700
TZNAME:PDT
DTSTART:20590309T100000
END:DAYLIGHT
BEGIN:STANDARD
TZOFFSETFROM:-0700
TZOFFSETTO:-0800
TZNAME:PST
DTSTART:20591102T090000
END:STANDARD
BEGIN:DAYLIGHT
TZOFFSETFROM:-0800
TZOFFSETTO:-0700
TZNAME:PDT
DTSTART:20600314T100000
END:DAYLIGHT
BEGIN:STANDARD
TZOFFSETFROM:-0700
TZOFFSETTO:-0800
TZNAME:PST
DTSTART:20601107T090000
END:STANDARD
BEGIN:DAYLIGHT
TZOFFSETFROM:-0800
TZOFFSETTO:-0700
TZNAME:PDT
DTSTART:20610313T100000
END:DAYLIGHT
BEGIN:STANDARD
TZOFFSETFROM:-0700
TZOFFSETTO:-0800
TZNAME:PST
DTSTART:20611106T090000
END:STANDARD
BEGIN:DAYLIGHT
TZOFFSETFROM:-0800
TZOFFSETTO:-0700
TZNAME:PDT
DTSTART:20620312T100000
END:DAYLIGHT
BEGIN:STANDARD
TZOFFSETFROM:-0700
TZOFFSETTO:-0800
TZNAME:PST
DTSTART:20621105T090000
END:STANDARD
BEGIN:DAYLIGHT
TZOFFSETFROM:-0800
TZOFFSETTO:-0700
TZNAME:PDT
DTSTART:20630311T100000
END:DAYLIGHT
BEGIN:STANDARD
TZOFFSETFROM:-0700
TZOFFSETTO:-0800
TZNAME:PST
DTSTART:20631104T090000
END:STANDARD
BEGIN:DAYLIGHT
TZOFFSETFROM:-0800
TZOFFSETTO:-0700
TZNAME:PDT
DTSTART:20640309T100000
END:DAYLIGHT
BEGIN:STANDARD
TZOFFSETFROM:-0700
TZOFFSETTO:-0800
TZNAME:PST
DTSTART:20641102T090000
END:STANDARD
BEGIN:DAYLIGHT
TZOFFSETFROM:-0800
TZOFFSETTO:-0700
TZNAME:PDT
DTSTART:20650308T100000
END:DAYLIGHT
BEGIN:STANDARD
TZOFFSETFROM:-0700
TZOFFSETTO:-0800
TZNAME:PST
DTSTART:20651101T090000
END:STANDARD
BEGIN:DAYLIGHT
TZOFFSETFROM:-0800
TZOFFSETTO:-0700
TZNAME:PDT
DTSTART:20660314T100000
END:DAYLIGHT
BEGIN:STANDARD
TZOFFSETFROM:-0700
TZOFFSETTO:-0800
TZNAME:PST
DTSTART:20661107T090000
END:STANDARD
BEGIN:DAYLIGHT
TZOFFSETFROM:-0800
TZOFFSETTO:-0700
TZNAME:PDT
DTSTART:20670313T100000
END:DAYLIGHT
BEGIN:STANDARD
TZOFFSETFROM:-0700
TZOFFSETTO:-0800
TZNAME:PST
DTSTART:20671106T090000
END:STANDARD
BEGIN:DAYLIGHT
TZOFFSETFROM:-0800
TZOFFSETTO:-0700
TZNAME:PDT
DTSTART:20680311T100000
END:DAYLIGHT
BEGIN:STANDARD
TZOFFSETFROM:-0700
TZOFFSETTO:-0800
TZNAME:PST
DTSTART:20681104T090000
END:STANDARD
BEGIN:DAYLIGHT
TZOFFSETFROM:-0800
TZOFFSETTO:-0700
TZNAME:PDT
DTSTART:20690310T100000
END:DAYLIGHT
BEGIN:STANDARD
TZOFFSETFROM:-0700
TZOFFSETTO:-0800
TZNAME:PST
DTSTART:20691103T090000
END:STANDARD
BEGIN:DAYLIGHT
TZOFFSETFROM:-0800
TZOFFSETTO:-0700
TZNAME:PDT
DTSTART:20700309T100000
END:DAYLIGHT
BEGIN:STANDARD
TZOFFSETFROM:-0700
TZOFFSETTO:-0800
TZNAME:PST
DTSTART:20701102T090000
END:STANDARD
BEGIN:DAYLIGHT
TZOFFSETFROM:-0800
TZOFFSETTO:-0700
TZNAME:PDT
DTSTART:20710308T100000
END:DAYLIGHT
BEGIN:STANDARD
TZOFFSETFROM:-0700
TZOFFSETTO:-0800
TZNAME:PST
DTSTART:20711101T090000
END:STANDARD
BEGIN:DAYLIGHT
TZOFFSETFROM:-0800
TZOFFSETTO:-0700
TZNAME:PDT
DTSTART:20720313T100000
END:DAYLIGHT
BEGIN:STANDARD
TZOFFSETFROM:-0700
TZOFFSETTO:-0800
TZNAME:PST
DTSTART:20721106T090000
END:STANDARD
BEGIN:DAYLIGHT
TZOFFSETFROM:-0800
TZOFFSETTO:-0700
TZNAME:PDT
DTSTART:20730312T100000
END:DAYLIGHT
BEGIN:STANDARD
TZOFFSETFROM:-0700
TZOFFSETTO:-0800
TZNAME:PST
DTSTART:20731105T090000
END:STANDARD
BEGIN:DAYLIGHT
TZOFFSETFROM:-0800
TZOFFSETTO:-0700
TZNAME:PDT
DTSTART:20740311T100000
END:DAYLIGHT
BEGIN:STANDARD
TZOFFSETFROM:-0700
TZOFFSETTO:-0800
TZNAME:PST
DTSTART:20741104T090000
END:STANDARD
BEGIN:DAYLIGHT
TZOFFSETFROM:-0800
TZOFFSETTO:-0700
TZNAME:PDT
DTSTART:20750310T100000
END:DAYLIGHT
BEGIN:STANDARD
TZOFFSETFROM:-0700
TZOFFSETTO:-0800
TZNAME:PST
DTSTART:20751103T090000
END:STANDARD
BEGIN:DAYLIGHT
TZOFFSETFROM:-0800
TZOFFSETTO:-0700
TZNAME:PDT
DTSTART:20760308T100000
END:DAYLIGHT
BEGIN:STANDARD
TZOFFSETFROM:-0700
TZOFFSETTO:-0800
TZNAME:PST
DTSTART:20761101T090000
END:STANDARD
BEGIN:DAYLIGHT
TZOFFSETFROM:-0800
TZOFFSETTO:-0700
TZNAME:PDT
DTSTART:20770314T100000
END:DAYLIGHT
BEGIN:STANDARD
TZOFFSETFROM:-0700
TZOFFSETTO:-0800
TZNAME:PST
DTSTART:20771107T090000
END:STANDARD
BEGIN:DAYLIGHT
TZOFFSETFROM:-0800
TZOFFSETTO:-0700
TZNAME:PDT
DTSTART:20780313T100000
END:DAYLIGHT
BEGIN:STANDARD
TZOFFSETFROM:-0700
TZOFFSETTO:-0800
TZNAME:PST
DTSTART:20781106T090000
END:STANDARD
BEGIN:DAYLIGHT
TZOFFSETFROM:-0800
TZOFFSETTO:-0700
TZNAME:PDT
DTSTART:20790312T100000
END:DAYLIGHT
BEGIN:STANDARD
TZOFFSETFROM:-0700
TZOFFSETTO:-0800
TZNAME:PST
DTSTART:20791105T090000
END:STANDARD
BEGIN:DAYLIGHT
TZOFFSETFROM:-0800
TZOFFSETTO:-0700
TZNAME:PDT
DTSTART:20800310T100000
END:DAYLIGHT
BEGIN:STANDARD
TZOFFSETFROM:-0700
TZOFFSETTO:-0800
TZNAME:PST
DTSTART:20801103T090000
END:STANDARD
BEGIN:DAYLIGHT
TZOFFSETFROM:-0800
TZOFFSETTO:-0700
TZNAME:PDT
DTSTART:20810309T100000
END:DAYLIGHT
BEGIN:STANDARD
TZOFFSETFROM:-0700
TZOFFSETTO:-0800
TZNAME:PST
DTSTART:20811102T090000
END:STANDARD
BEGIN:DAYLIGHT
TZOFFSETFROM:-0800
TZOFFSETTO:-0700
TZNAME:PDT
DTSTART:20820308T100000
END:DAYLIGHT
BEGIN:STANDARD
TZOFFSETFROM:-0700
TZOFFSETTO:-0800
TZNAME:PST
DTSTART:20821101T090000
END:STANDARD
BEGIN:DAYLIGHT
TZOFFSETFROM:-0800
TZOFFSETTO:-0700
TZNAME:PDT
DTSTART:20830314T100000
END:DAYLIGHT
BEGIN:STANDARD
TZOFFSETFROM:-0700
TZOFFSETTO:-0800
TZNAME:PST
DTSTART:20831107T090000
END:STANDARD
END:VTIMEZONE
BEGIN:VEVENT
DTSTART;TZID=America/Los_Angeles:20260425T100000
DTEND;TZID=America/Los_Angeles:20260425T120000
DTSTAMP:20260425T034156
CREATED:20260217T194306Z
LAST-MODIFIED:20260217T194306Z
UID:10015049-1777111200-1777118400@playhousevillage.org
SUMMARY:USC PAM: Yoga@PAM
DESCRIPTION:USC Pacific Asia Museum invites the community to experience Yoga in the USC PAM Courtyard\, a one-hour\, community-based session designed for all bodies and levels. Led by Amber Kiwan and inspired by Mythical Creatures: The Stories We Carry\, the class brings imaginative mythical creature and animal poses to life through movement\, breath\, and flow. \nTickets include museum admission and free parking. \nAmber Kiwan began practicing yoga in 2010\, initially seeking a fun workout but discovering a lifelong\, healing practice. She has been teaching since 2020\, offering classes that are sweaty\, grounding\, and flowing—encouraging students to challenge themselves while cultivating deeper self-awareness. After living and teaching in New York City and Austin\, Amber returned home to Los Angeles\, where she currently resides and continues to guide students toward clarity\, strength\, and inner peace.
URL:https://playhousevillage.org/event/usc-pam-yogapam/
LOCATION:USC Pacific Asia Museum\, 46 North Los Robles Avenue\, Pasadena\, CA\, 91101\, United States
CATEGORIES:Fitness,Free,In-Person,USC Pacific Asia Museum,Workshop
ATTACH;FMTTYPE=image/webp:https://playhousevillage.org/wp-content/uploads/2026/02/image-2.webp
END:VEVENT
BEGIN:VEVENT
DTSTART;TZID=America/Los_Angeles:20260425T100000
DTEND;TZID=America/Los_Angeles:20260425T170000
DTSTAMP:20260425T034156
CREATED:20260423T165214Z
LAST-MODIFIED:20260423T165214Z
UID:10015205-1777111200-1777136400@playhousevillage.org
SUMMARY:Ahiah: Wellness Faire
DESCRIPTION:Ahiah Center invites the community to enjoy a day of health and wellness faire on April 25. Enjoy a day of rejuvenation and practical wellness practices. All are welcome.
URL:https://playhousevillage.org/event/ahiah-wellness-faire/
LOCATION:Ahiah Center For Spiritual Living Pasadena\, 150 N El Molino Ave\, Pasadena\, CA\, 91101
CATEGORIES:In-Person
ATTACH;FMTTYPE=image/avif:https://playhousevillage.org/wp-content/uploads/2026/04/April-26-Health-Wellness.avif
END:VEVENT
BEGIN:VEVENT
DTSTART;TZID=America/Los_Angeles:20260425T100000
DTEND;TZID=America/Los_Angeles:20260425T180000
DTSTAMP:20260425T034156
CREATED:20260326T232402Z
LAST-MODIFIED:20260326T232402Z
UID:10015203-1777111200-1777140000@playhousevillage.org
SUMMARY:Wollhaus: LA Yarn Crawl
DESCRIPTION:The LA Yarn Crawl is making its way through Playhouse Village\, with Wollhaus Pasadena as its third stop on the passport. 🎉 Yarn shops across Los Angeles County are joining the celebration\, and it’s not to be missed. Fiber lovers are invited to gather their crew and get ready for the ultimate yarn crawl adventure. Hop from shop to shop\, discover new yarns\, collect exclusive buttons and tote bags\, enjoy free patterns\, and enter to win prizes that are sure to delight. 🧶✨
URL:https://playhousevillage.org/event/wollhaus-la-yarn-crawl/2026-04-25/
LOCATION:Wollhaus Artisan Yarn & Tools\, 696 E. Colorado Blvd. Suite 2\, Pasadena\, CA\, 91101\, United States
CATEGORIES:Community Event,Craft & DIY,In-Person,Walking Tours,Wollhaus
ATTACH;FMTTYPE=image/jpeg:https://playhousevillage.org/wp-content/uploads/2026/03/623828739_18553843807046312_6581318801384993949_n.jpg
END:VEVENT
BEGIN:VEVENT
DTSTART;TZID=America/Los_Angeles:20260425T110000
DTEND;TZID=America/Los_Angeles:20260425T110000
DTSTAMP:20260425T034156
CREATED:20260319T232525Z
LAST-MODIFIED:20260319T232647Z
UID:10015190-1777114800-1777114800@playhousevillage.org
SUMMARY:Boston Court: Helix Collective’s Dooby Dooby Moo
DESCRIPTION:Helix Collective’s delightful live musical story time event for ages 3-7 features Dooby Dooby Moo (the third book in the Click Clack Moo series by Doreen Cronin with illustrations by Betsy Lewin). The book is set to original music by Helix Collective resident composer\, Phil Popham\, and narrated by Broadway and T.V. actress Rena Strober. \nDooby Dooby Moo continues the story of Farmer Brown’s animals from Click\, Clack\, Moo\, who enter a talent show in an attempt to win a trampoline. Duck leads the rehearsals including the cows’ “Twinkle\, Twinkle\, Little Star\,” the sheeps’ “Home on the Range\,” the pigs’ interpretive dance\, and Duck’s own version of Duck in the Wild. \nCome meet musicians\, explore instruments\, and hear Dooby\, Dooby\, Moo come to life!
URL:https://playhousevillage.org/event/boston-court-helix-collectives-dooby-dooby-moo/2026-04-25/1/
LOCATION:Boston Court Pasadena\, 70 N. Mentor Ave.\, Pasadena\, CA\, 91206\, United States
CATEGORIES:Boston Court Pasadena,In-Person,Kids,Music
ATTACH;FMTTYPE=image/jpeg:https://playhousevillage.org/wp-content/uploads/2026/03/Dooby-Dooby-Moo-Cover-570x400-1.jpg
END:VEVENT
BEGIN:VEVENT
DTSTART;TZID=America/Los_Angeles:20260425T150000
DTEND;TZID=America/Los_Angeles:20260425T150000
DTSTAMP:20260425T034156
CREATED:20260318T183926Z
LAST-MODIFIED:20260318T183926Z
UID:10015111-1777129200-1777129200@playhousevillage.org
SUMMARY:Vroman's Bookstore: Luke Goebel\, in conversation with Caroline Kepnes\, discusses & signs Kill Dick
DESCRIPTION:ACCLAIMED AUTHOR OF FOURTEEN STORIES\, NONE OF THEM ARE YOURS\, CO-WRITER OF the films CAUSEWAY and EILEEN \nRECIPIENT OF PRESTIGIOUS RONALD SUKENICK INNOVATIVE FICTION PRIZE AND JOAN SCOTT MEMORIAL FICTION AWARD \n“Kill Dick” is a love letter to LA’s darkness and light.”–USA Today \nA fever dream\, Kill Dick is a literary thriller that plunges into the chaos of Los Angeles\, where addiction\, privilege\, and corruption combust. \nAt nineteen\, Susie Vogelman should be coasting: she’s an NYU dropout with no responsibilities\, endless prescription pills\, and a Brentwood estate to waste away in. But Los Angeles has other plans. A string of brutal murders targeting addicts spreads through the city\, and Susie’s ivory tower begins to crumble. The headlines point too close to home: her father’s ties to an opioid empire\, a sinister secret society\, and her own complicity in the systems holding it all together. \nThen there’s Peter Holiday\, a disgraced professor running a rehab scam so audacious it’s almost admirable. When their lives collide\, Susie and Peter are dragged into a web of privilege\, corruption\, and violence\, where every escape leads deeper into the rot. \nDark\, satirical\, and razor-sharp\, Kill Dick is a modern literary thriller that unflinchingly dissects wealth\, exploitation\, and the perilous line between survival and self-destruction.
URL:https://playhousevillage.org/event/vromans-bookstore-luke-goebel-in-conversation-with-caroline-kepnes-discusses-signs-kill-dick/
LOCATION:Vroman’s Bookstore\, 695 E. Colorado Blvd.\, Pasadena\, CA\, 91101\, United States
ATTACH;FMTTYPE=image/png:https://playhousevillage.org/wp-content/uploads/2026/03/luke-goebel-updated.png
END:VEVENT
BEGIN:VEVENT
DTSTART;TZID=America/Los_Angeles:20260425T163000
DTEND;TZID=America/Los_Angeles:20260425T183000
DTSTAMP:20260425T034156
CREATED:20250812T180444Z
LAST-MODIFIED:20250812T180444Z
UID:10014020-1777134600-1777141800@playhousevillage.org
SUMMARY:Ice House Comedy: Deez Nutz
DESCRIPTION:Ice House Comedy presents Deez Nutz! LIVE IN THE CALIFORNIA ROOM! Ice House doors open at 3:30pm. Show Starts at 4:30pm.\n18+ only with a 2 item minimum per seat in the showroom \nBio:\nThe “NEXT!!!” of young stand-up comedians in SoCal have gathered together to perform inside the renowned Ice House in Pasadena!  Vargus Mason\, gathering one of the more discerning showcases in Hollywood\, delivers a diverse hilarious lineup guaranteed to rock your funny bone!  Don’t miss the chance to see the new rising stars of the comedy scene.
URL:https://playhousevillage.org/event/ice-house-comedy-deez-nutz-5/2026-04-25/
LOCATION:Ice House Comedy Club\, 24 N Mentor Ave\, Pasadena\, CA\, 91106
CATEGORIES:Dining,Ice House,In-Person
ATTACH;FMTTYPE=image/jpeg:https://playhousevillage.org/wp-content/uploads/2025/08/scaled_384-4.jpg
END:VEVENT
BEGIN:VEVENT
DTSTART;TZID=America/Los_Angeles:20260425T170000
DTEND;TZID=America/Los_Angeles:20820425T183000
DTSTAMP:20260425T034156
CREATED:20260424T222101Z
LAST-MODIFIED:20260424T223738Z
UID:10015207-1777136400-3544367400@playhousevillage.org
SUMMARY:Pasadena Heritage: Historic Preservation: Then & Now
DESCRIPTION:Founded in 1977\, Pasadena Heritage emerged at a pivotal moment for the city. Efforts to revive a struggling local economy brought sweeping redevelopment plans that threatened historic buildings\, neighborhoods\, and the character of the original downtown. In response\, residents organized at the grassroots level\, advocating for a more thoughtful approach and ultimately helping to redefine Pasadena’s future. \nToday\, similar questions around growth\, density\, and identity have reemerged\, carrying even greater urgency. As Pasadena Heritage approaches its 50th anniversary\, this moment offers an opportunity to reflect on how past advocacy shaped the city as it exists today—and what those lessons reveal about the path forward. Preservation extends beyond protecting structures; it centers on continuity\, collective memory\, and ensuring that the stories carried forward reflect the full breadth of the community\, including those historically underrepresented. \nThese themes—what unfolded in the 1970s\, how a new vision took hold\, and what preservation means for Pasadena today—will be explored in a talk led by Executive Director Dr. Bridget Lawlor on Monday\, May 4.
URL:https://playhousevillage.org/event/pasadena-heritage-historic-preservation-then-now/
LOCATION:Blinn House\, 160 N. Oakland Ave.\, Pasadena\, CA\, 91101\, United States
CATEGORIES:Architecture,In-Person
ATTACH;FMTTYPE=image/webp:https://playhousevillage.org/wp-content/uploads/2026/04/PCC_TH-2202.webp
END:VEVENT
END:VCALENDAR