BEGIN:VCALENDAR
VERSION:2.0
PRODID:-//Playhouse Village Association - ECPv6.15.20//NONSGML v1.0//EN
CALSCALE:GREGORIAN
METHOD:PUBLISH
X-WR-CALNAME:Playhouse Village Association
X-ORIGINAL-URL:https://playhousevillage.org
X-WR-CALDESC:Events for Playhouse Village Association
REFRESH-INTERVAL;VALUE=DURATION:PT1H
X-Robots-Tag:noindex
X-PUBLISHED-TTL:PT1H
BEGIN:VTIMEZONE
TZID:America/Los_Angeles
BEGIN:DAYLIGHT
TZOFFSETFROM:-0800
TZOFFSETTO:-0700
TZNAME:PDT
DTSTART:20250309T100000
END:DAYLIGHT
BEGIN:STANDARD
TZOFFSETFROM:-0700
TZOFFSETTO:-0800
TZNAME:PST
DTSTART:20251102T090000
END:STANDARD
BEGIN:DAYLIGHT
TZOFFSETFROM:-0800
TZOFFSETTO:-0700
TZNAME:PDT
DTSTART:20260308T100000
END:DAYLIGHT
BEGIN:STANDARD
TZOFFSETFROM:-0700
TZOFFSETTO:-0800
TZNAME:PST
DTSTART:20261101T090000
END:STANDARD
BEGIN:DAYLIGHT
TZOFFSETFROM:-0800
TZOFFSETTO:-0700
TZNAME:PDT
DTSTART:20270314T100000
END:DAYLIGHT
BEGIN:STANDARD
TZOFFSETFROM:-0700
TZOFFSETTO:-0800
TZNAME:PST
DTSTART:20271107T090000
END:STANDARD
END:VTIMEZONE
BEGIN:VEVENT
DTSTART;TZID=America/Los_Angeles:20260424T100000
DTEND;TZID=America/Los_Angeles:20260424T180000
DTSTAMP:20260424T131638
CREATED:20260326T232402Z
LAST-MODIFIED:20260326T232402Z
UID:10015202-1777024800-1777053600@playhousevillage.org
SUMMARY:Wollhaus: LA Yarn Crawl
DESCRIPTION:The LA Yarn Crawl is making its way through Playhouse Village\, with Wollhaus Pasadena as its third stop on the passport. 🎉 Yarn shops across Los Angeles County are joining the celebration\, and it’s not to be missed. Fiber lovers are invited to gather their crew and get ready for the ultimate yarn crawl adventure. Hop from shop to shop\, discover new yarns\, collect exclusive buttons and tote bags\, enjoy free patterns\, and enter to win prizes that are sure to delight. 🧶✨
URL:https://playhousevillage.org/event/wollhaus-la-yarn-crawl/2026-04-24/
LOCATION:Wollhaus Artisan Yarn & Tools\, 696 E. Colorado Blvd. Suite 2\, Pasadena\, CA\, 91101\, United States
CATEGORIES:Community Event,Craft & DIY,In-Person,Walking Tours,Wollhaus
ATTACH;FMTTYPE=image/jpeg:https://playhousevillage.org/wp-content/uploads/2026/03/623828739_18553843807046312_6581318801384993949_n.jpg
END:VEVENT
BEGIN:VEVENT
DTSTART;TZID=America/Los_Angeles:20260424T190000
DTEND;TZID=America/Los_Angeles:20260424T190000
DTSTAMP:20260424T131638
CREATED:20260318T183653Z
LAST-MODIFIED:20260318T183653Z
UID:10015110-1777057200-1777057200@playhousevillage.org
SUMMARY:Vroman's Bookstore: Dave Baker & Nicole Goux discuss & sign Punk'n Heads
DESCRIPTION:This band plays together\, lives together…and unfortunately\, two of them are sleeping together. Whatever\, I’m sure it’s fine. Now put on your punk’n mask and let’s rock! \nHannah Lipsky isn’t sure what’s happening. She dreamed of becoming a fine art painter\, but after breaking up with her girlfriend\, she suddenly dropped out of art school\, moved into a flophouse\, and gotten roped into singing in a campy horror-punk band. With costumes. To make things even more complicated\, she might be hooking up with her housemate/bandmate/high school crush\, Jerry. Wherever this is leading\, it’s going to be messy. \nCritically acclaimed\, Eisner-nominated creators Nicole Goux ( Forest Hills Bootleg Society\, Pet Peeves) and Dave Baker ( Everyone Is Tulip\, Mary Tyler MooreHawk) join forces for a raucous and revealing new graphic novel about making music\, making mistakes\, facing your past\, and choosing your future. \nAbout the Creators \nDave Baker is a writer and illustrator living in Los Angeles. His previous works include Forest Hills Bootleg Society (Simon & Schuster)\, Everyone Is Tulip (Dark Horse)\, and Mary Tyler MooreHawk (Top Shelf)\, among many others. He’s also written for Cartoon Network’s Ben 10 and the live-action feature film Alien Warfare. When he’s not working\, he’s at home practicing his Bela Lugosi impersonation. \nNicole Goux (she/her) is an Eisner Award-nominated illustrator and cartoonist from Los Angeles. She’s the artist of DC’s Shadow of the Batgirl and co-creator of Fuck Off Squad at Silver Sprocket Bicycle Club\, Forest Hills Bootleg Society at Simon and Schuster: Atheneaum. She has been published by DC\, Dark Horse\, IDW\, Oni\, and Avery Hill. Her most recent comic\, This Place Kills Me in collaboration with Mariko Tamaki\, is published by Abrams Fanfare.
URL:https://playhousevillage.org/event/vromans-bookstore-dave-baker-nicole-goux-discuss-sign-punkn-heads/
LOCATION:Vroman’s Bookstore
CATEGORIES:Books,Community Event,Free,In-Person,Vroman's Bookstore
ATTACH;FMTTYPE=image/png:https://playhousevillage.org/wp-content/uploads/2026/03/book-cover-web.png
END:VEVENT
END:VCALENDAR